Workbook

Sheet Notice
B9: Suivi commercial — Agent commercial multicarte
B11: Comment utiliser ce classeur
B12: Ce fichier est votre poste de pilotage : renseignez d'abord vos marques et vos clients, puis saisissez votre CA au fil de l'eau. Tout le reste (synthèses, commissions, tableau de bord) se calcule seul.
B14: Ordre de mise en route
B15: 1. Onglet « Tableau de bord » → indiquez l'année de suivi dans la cellule jaune.
B16: 2. Onglet « Marques » → listez chaque marque représentée + votre taux de commission.
B17: 3. Onglet « Clients » → saisissez les coordonnées et le statut de chaque client / prospect.
B18: 4. Onglet « Suivi CA » → une ligne par mois / client / marque. Les menus déroulants évitent les fautes ; le taux et la commission se remplissent automatiquement.
B19: 5. Onglets « Synthèse » et « Détail CA » → lecture automatique du CA par marque, par client et mois par mois.
B20: 6. Onglet « Rapports de visites » → votre journal de visites (compte-rendu, actions, relances).
B22: Code couleur
B23: Cellule jaune → à remplir par vous (paramètre / saisie).
... B43: Découvrir KepleR CRM → www.keplercrm.fr

Sheet Tableau de bord
F2: Tableau de bord commercial | L2: ANNÉE DE SUIVI
F3: Suivi de l'activité — CA, commissions et marques représentées | L3: 2026
B8: INDICATEURS CLÉS
B10: CA ANNUEL HT | D10: COMMISSIONS | F10: CLIENTS & PROSPECTS | H10: MARQUES | J10: VISITES SAISIES | L10: CA MOYEN / CLIENT
B11: =SUMIFS('Suivi CA'!$E$2:$E$401,'Suivi CA'!$A$2:$A$401,$L$3) -> 1850 | D11: =SUMIFS('Suivi CA'!$G$2:$G$401,'Suivi CA'!$A$2:$A$401,$L$3) -> 111 | F11: =COUNTA(Clients!$B$2:$B$121) -> 1 | H11: =COUNTA(Marques!$A$2:$A$41) -> 2 | J11: =COUNTA('Rapports de visites'!$B$2:$B$201) -> 1 | L11: =IFERROR(SUMIFS('Suivi CA'!$E$2:$E$401,'Suivi CA'!$A$2:$A$401,$L$3)/COUNTIF(Clients!$N$2:$N$121,"Actif"),0) -> 1850
B13: ÉVOLUTION MENSUELLE — CA & COMMISSIONS | H13: RÉPARTITION DU CA PAR MARQUE
B36: Données des graphiques — calculées automatiquement
B37: Mois | D37: CA (€) | F37: Commission (€) | H37: Marque | J37: CA (€)
B38: Janvier | D38: =SUMIFS('Suivi CA'!$E$2:$E$401,'Suivi CA'!$B$2:$B$401,$B38,'Suivi CA'!$A$2:$A$401,$L$3) -> 0 | F38: =SUMIFS('Suivi CA'!$G$2:$G$401,'Suivi CA'!$B$2:$B$401,$B38,'Suivi CA'!$A$2:$A$401,$L$3) -> 0 | H38: =IF(Marques!$A2="","",Marques!$A2) -> Spit | J38: =IF($H38="",0,SUMIFS('Suivi CA'!$E$2:$E$401,'Suivi CA'!$D$2:$D$401,$H38,'Suivi CA'!$A$2:$A$401,$L$3)) -> 1850
B39: Février | D39: =SUMIFS('Suivi CA'!$E$2:$E$401,'Suivi CA'!$B$2:$B$401,$B39,'Suivi CA'!$A$2:$A$401,$L$3) -> 0 | F39: =SUMIFS('Suivi CA'!$G$2:$G$401,'Suivi CA'!$B$2:$B$401,$B39,'Suivi CA'!$A$2:$A$401,$L$3) -> 0 | H39: =IF(Marques!$A3="","",Marques!$A3) -> Red Head | J39: =IF($H39="",0,SUMIFS('Suivi CA'!$E$2:$E$401,'Suivi CA'!$D$2:$D$401,$H39,'Suivi CA'!$A$2:$A$401,$L$3)) -> 0
B40: Mars | D40: =SUMIFS('Suivi CA'!$E$2:$E$401,'Suivi CA'!$B$2:$B$401,$B40,'Suivi CA'!$A$2:$A$401,$L$3) -> 0 | F40: =SUMIFS('Suivi CA'!$G$2:$G$401,'Suivi CA'!$B$2:$B$401,$B40,'Suivi CA'!$A$2:$A$401,$L$3) -> 0 | H40: =IF(Marques!$A4="","",Marques!$A4) | J40: =IF($H40="",0,SUMIFS('Suivi CA'!$E$2:$E$401,'Suivi CA'!$D$2:$D$401,$H40,'Suivi CA'!$A$2:$A$401,$L$3)) -> 0
B41: Avril | D41: =SUMIFS('Suivi CA'!$E$2:$E$401,'Suivi CA'!$B$2:$B$401,$B41,'Suivi CA'!$A$2:$A$401,$L$3) -> 0 | F41: =SUMIFS('Suivi CA'!$G$2:$G$401,'Suivi CA'!$B$2:$B$401,$B41,'Suivi CA'!$A$2:$A$401,$L$3) -> 0 | H41: =IF(Marques!$A5="","",Marques!$A5) | J41: =IF($H41="",0,SUMIFS('Suivi CA'!$E$2:$E$401,'Suivi CA'!$D$2:$D$401,$H41,'Suivi CA'!$A$2:$A$401,$L$3)) -> 0
B42: Mai | D42: =SUMIFS('Suivi CA'!$E$2:$E$401,'Suivi CA'!$B$2:$B$401,$B42,'Suivi CA'!$A$2:$A$401,$L$3) -> 0 | F42: =SUMIFS('Suivi CA'!$G$2:$G$401,'Suivi CA'!$B$2:$B$401,$B42,'Suivi CA'!$A$2:$A$401,$L$3) -> 0 | H42: =IF(Marques!$A6="","",Marques!$A6) | J42: =IF($H42="",0,SUMIFS('Suivi CA'!$E$2:$E$401,'Suivi CA'!$D$2:$D$401,$H42,'Suivi CA'!$A$2:$A$401,$L$3)) -> 0
B43: Juin | D43: =SUMIFS('Suivi CA'!$E$2:$E$401,'Suivi CA'!$B$2:$B$401,$B43,'Suivi CA'!$A$2:$A$401,$L$3) -> 0 | F43: =SUMIFS('Suivi CA'!$G$2:$G$401,'Suivi CA'!$B$2:$B$401,$B43,'Suivi CA'!$A$2:$A$401,$L$3) -> 0 | H43: =IF(Marques!$A7="","",Marques!$A7) | J43: =IF($H43="",0,SUMIFS('Suivi CA'!$E$2:$E$401,'Suivi CA'!$D$2:$D$401,$H43,'Suivi CA'!$A$2:$A$401,$L$3)) -> 0
B44: Juillet | D44: =SUMIFS('Suivi CA'!$E$2:$E$401,'Suivi CA'!$B$2:$B$401,$B44,'Suivi CA'!$A$2:$A$401,$L$3) -> 0 | F44: =SUMIFS('Suivi CA'!$G$2:$G$401,'Suivi CA'!$B$2:$B$401,$B44,'Suivi CA'!$A$2:$A$401,$L$3) -> 0 | H44: =IF(Marques!$A8="","",Marques!$A8) | J44: =IF($H44="",0,SUMIFS('Suivi CA'!$E$2:$E$401,'Suivi CA'!$D$2:$D$401,$H44,'Suivi CA'!$A$2:$A$401,$L$3)) -> 0
B45: Août | D45: =SUMIFS('Suivi CA'!$E$2:$E$401,'Suivi CA'!$B$2:$B$401,$B45,'Suivi CA'!$A$2:$A$401,$L$3) -> 0 | F45: =SUMIFS('Suivi CA'!$G$2:$G$401,'Suivi CA'!$B$2:$B$401,$B45,'Suivi CA'!$A$2:$A$401,$L$3) -> 0 | H45: =IF(Marques!$A9="","",Marques!$A9) | J45: =IF($H45="",0,SUMIFS('Suivi CA'!$E$2:$E$401,'Suivi CA'!$D$2:$D$401,$H45,'Suivi CA'!$A$2:$A$401,$L$3)) -> 0
B46: Septembre | D46: =SUMIFS('Suivi CA'!$E$2:$E$401,'Suivi CA'!$B$2:$B$401,$B46,'Suivi CA'!$A$2:$A$401,$L$3) -> 1850 | F46: =SUMIFS('Suivi CA'!$G$2:$G$401,'Suivi CA'!$B$2:$B$401,$B46,'Suivi CA'!$A$2:$A$401,$L$3) -> 111 | H46: =IF(Marques!$A10="","",Marques!$A10) | J46: =IF($H46="",0,SUMIFS('Suivi CA'!$E$2:$E$401,'Suivi CA'!$D$2:$D$401,$H46,'Suivi CA'!$A$2:$A$401,$L$3)) -> 0
B47: Octobre | D47: =SUMIFS('Suivi CA'!$E$2:$E$401,'Suivi CA'!$B$2:$B$401,$B47,'Suivi CA'!$A$2:$A$401,$L$3) -> 0 | F47: =SUMIFS('Suivi CA'!$G$2:$G$401,'Suivi CA'!$B$2:$B$401,$B47,'Suivi CA'!$A$2:$A$401,$L$3) -> 0 | H47: =IF(Marques!$A11="","",Marques!$A11) | J47: =IF($H47="",0,SUMIFS('Suivi CA'!$E$2:$E$401,'Suivi CA'!$D$2:$D$401,$H47,'Suivi CA'!$A$2:$A$401,$L$3)) -> 0
B48: Novembre | D48: =SUMIFS('Suivi CA'!$E$2:$E$401,'Suivi CA'!$B$2:$B$401,$B48,'Suivi CA'!$A$2:$A$401,$L$3) -> 0 | F48: =SUMIFS('Suivi CA'!$G$2:$G$401,'Suivi CA'!$B$2:$B$401,$B48,'Suivi CA'!$A$2:$A$401,$L$3) -> 0 | H48: =IF(Marques!$A12="","",Marques!$A12) | J48: =IF($H48="",0,SUMIFS('Suivi CA'!$E$2:$E$401,'Suivi CA'!$D$2:$D$401,$H48,'Suivi CA'!$A$2:$A$401,$L$3)) -> 0
B49: Décembre | D49: =SUMIFS('Suivi CA'!$E$2:$E$401,'Suivi CA'!$B$2:$B$401,$B49,'Suivi CA'!$A$2:$A$401,$L$3) -> 0 | F49: =SUMIFS('Suivi CA'!$G$2:$G$401,'Suivi CA'!$B$2:$B$401,$B49,'Suivi CA'!$A$2:$A$401,$L$3) -> 0 | H49: =IF(Marques!$A13="","",Marques!$A13) | J49: =IF($H49="",0,SUMIFS('Suivi CA'!$E$2:$E$401,'Suivi CA'!$D$2:$D$401,$H49,'Suivi CA'!$A$2:$A$401,$L$3)) -> 0

Sheet Marques
A1: Marque | B1: Taux commission | C1: Contact fournisseur | D1: Téléphone | E1: Email | F1: Notes
A2: Spit | B2: 0.06 | C2: Service commercial Spit | E2: contact@spit.example | F2: Fixations & scellement
A3: Red Head | B3: 0.05 | C3: Service commercial Red Head | E3: contact@redhead.example | F3: Chevilles & ancrages

Sheet Clients
A1: Code | B1: Raison sociale | C1: Type | D1: Enseigne / Groupe | E1: Interlocuteur | F1: Fonction | G1: Téléphone | H1: Email | I1: Adresse | J1: CP | K1: Ville | L1: Dépt | M1: Marques suivies | N1: Statut | O1: Notes
A2: C001 | B2: Bricomarché Bazas | C2: GSB | D2: Les Mousquetaires | E2: M. Dupont | F2: Chef de rayon | G2: 05 56 00 00 00 | H2: achat.bazas@example.fr | I2: 12 av. de la Gare | J2: 33430 | K2: Bazas | L2: 33 | M2: Spit ; Red Head | N2: Actif | O2: Rendez-vous mensuel

Sheet Suivi CA
A1: Année | B1: Mois | C1: Client | D1: Marque | E1: CA HT (€) | F1: Taux comm. (auto) | G1: Commission (€) | H1: Commentaire
A2: 2026 | B2: Septembre | C2: Bricomarché Bazas | D2: Spit | E2: 1850 | F2: =IFERROR(INDEX(Marques!$B$2:$B$41,MATCH($D2,Marques!$A$2:$A$41,0)),"") -> 0.06 | G2: =IFERROR($E2*$F2,0) -> 111
F3: =IFERROR(INDEX(Marques!$B$2:$B$41,MATCH($D3,Marques!$A$2:$A$41,0)),"") | G3: =IFERROR($E3*$F3,0) -> 0
F4: =IFERROR(INDEX(Marques!$B$2:$B$41,MATCH($D4,Marques!$A$2:$A$41,0)),"") | G4: =IFERROR($E4*$F4,0) -> 0
F5: =IFERROR(INDEX(Marques!$B$2:$B$41,MATCH($D5,Marques!$A$2:$A$41,0)),"") | G5: =IFERROR($E5*$F5,0) -> 0
F6: =IFERROR(INDEX(Marques!$B$2:$B$41,MATCH($D6,Marques!$A$2:$A$41,0)),"") | G6: =IFERROR($E6*$F6,0) -> 0
F7: =IFERROR(INDEX(Marques!$B$2:$B$41,MATCH($D7,Marques!$A$2:$A$41,0)),"") | G7: =IFERROR($E7*$F7,0) -> 0
F8: =IFERROR(INDEX(Marques!$B$2:$B$41,MATCH($D8,Marques!$A$2:$A$41,0)),"") | G8: =IFERROR($E8*$F8,0) -> 0
F9: =IFERROR(INDEX(Marques!$B$2:$B$41,MATCH($D9,Marques!$A$2:$A$41,0)),"") | G9: =IFERROR($E9*$F9,0) -> 0
F10: =IFERROR(INDEX(Marques!$B$2:$B$41,MATCH($D10,Marques!$A$2:$A$41,0)),"") | G10: =IFERROR($E10*$F10,0) -> 0
F11: =IFERROR(INDEX(Marques!$B$2:$B$41,MATCH($D11,Marques!$A$2:$A$41,0)),"") | G11: =IFERROR($E11*$F11,0) -> 0
F12: =IFERROR(INDEX(Marques!$B$2:$B$41,MATCH($D12,Marques!$A$2:$A$41,0)),"") | G12: =IFERROR($E12*$F12,0) -> 0
F13: =IFERROR(INDEX(Marques!$B$2:$B$41,MATCH($D13,Marques!$A$2:$A$41,0)),"") | G13: =IFERROR($E13*$F13,0) -> 0
F14: =IFERROR(INDEX(Marques!$B$2:$B$41,MATCH($D14,Marques!$A$2:$A$41,0)),"") | G14: =IFERROR($E14*$F14,0) -> 0
... F401: =IFERROR(INDEX(Marques!$B$2:$B$41,MATCH($D401,Marques!$A$2:$A$41,0)),"") | G401: =IFERROR($E401*$F401,0) -> 0

Sheet Synthèse Marque-Mois
A1: Marque | B1: Janvier | C1: Février | D1: Mars | E1: Avril | F1: Mai | G1: Juin | H1: Juillet | I1: Août | J1: Septembre | K1: Octobre | L1: Novembre | M1: Décembre | N1: Total CA | O1: Total commission
A2: =IF(Marques!$A2="","",Marques!$A2) -> Spit | B2: =SUMIFS('Suivi CA'!$E$2:$E$401,'Suivi CA'!$D$2:$D$401,$A2,'Suivi CA'!$B$2:$B$401,B$1,'Suivi CA'!$A$2:$A$401,'Tableau de bord'!$L$3) -> 0 | C2: =SUMIFS('Suivi CA'!$E$2:$E$401,'Suivi CA'!$D$2:$D$401,$A2,'Suivi CA'!$B$2:$B$401,C$1,'Suivi CA'!$A$2:$A$401,'Tableau de bord'!$L$3) -> 0 | D2: =SUMIFS('Suivi CA'!$E$2:$E$401,'Suivi CA'!$D$2:$D$401,$A2,'Suivi CA'!$B$2:$B$401,D$1,'Suivi CA'!$A$2:$A$401,'Tableau de bord'!$L$3) -> 0 | E2: =SUMIFS('Suivi CA'!$E$2:$E$401,'Suivi CA'!$D$2:$D$401,$A2,'Suivi CA'!$B$2:$B$401,E$1,'Suivi CA'!$A$2:$A$401,'Tableau de bord'!$L$3) -> 0 | F2: =SUMIFS('Suivi CA'!$E$2:$E$401,'Suivi CA'!$D$2:$D$401,$A2,'Suivi CA'!$B$2:$B$401,F$1,'Suivi CA'!$A$2:$A$401,'Tableau de bord'!$L$3) -> 0 | G2: =SUMIFS('Suivi CA'!$E$2:$E$401,'Suivi CA'!$D$2:$D$401,$A2,'Suivi CA'!$B$2:$B$401,G$1,'Suivi CA'!$A$2:$A$401,'Tableau de bord'!$L$3) -> 0 | H2: =SUMIFS('Suivi CA'!$E$2:$E$401,'Suivi CA'!$D$2:$D$401,$A2,'Suivi CA'!$B$2:$B$401,H$1,'Suivi CA'!$A$2:$A$401,'Tableau de bord'!$L$3) -> 0 | I2: =SUMIFS('Suivi CA'!$E$2:$E$401,'Suivi CA'!$D$2:$D$401,$A2,'Suivi CA'!$B$2:$B$401,I$1,'Suivi CA'!$A$2:$A$401,'Tableau de bord'!$L$3) -> 0 | ... M2: =SUMIFS('Suivi CA'!$E$2:$E$401,'Suivi CA'!$D$2:$D$401,$A2,'Suivi CA'!$B$2:$B$401,M$1,'Suivi CA'!$A$2:$A$401,'Tableau de bord'!$L$3) -> 0 | N2: =SUM(B2:M2) -> 1850 | O2: =SUMIFS('Suivi CA'!$G$2:$G$401,'Suivi CA'!$D$2:$D$401,$A2,'Suivi CA'!$A$2:$A$401,'Tableau de bord'!$L$3) -> 111
A3: =IF(Marques!$A3="","",Marques!$A3) -> Red Head | B3: =SUMIFS('Suivi CA'!$E$2:$E$401,'Suivi CA'!$D$2:$D$401,$A3,'Suivi CA'!$B$2:$B$401,B$1,'Suivi CA'!$A$2:$A$401,'Tableau de bord'!$L$3) -> 0 | C3: =SUMIFS('Suivi CA'!$E$2:$E$401,'Suivi CA'!$D$2:$D$401,$A3,'Suivi CA'!$B$2:$B$401,C$1,'Suivi CA'!$A$2:$A$401,'Tableau de bord'!$L$3) -> 0 | D3: =SUMIFS('Suivi CA'!$E$2:$E$401,'Suivi CA'!$D$2:$D$401,$A3,'Suivi CA'!$B$2:$B$401,D$1,'Suivi CA'!$A$2:$A$401,'Tableau de bord'!$L$3) -> 0 | E3: =SUMIFS('Suivi CA'!$E$2:$E$401,'Suivi CA'!$D$2:$D$401,$A3,'Suivi CA'!$B$2:$B$401,E$1,'Suivi CA'!$A$2:$A$401,'Tableau de bord'!$L$3) -> 0 | F3: =SUMIFS('Suivi CA'!$E$2:$E$401,'Suivi CA'!$D$2:$D$401,$A3,'Suivi CA'!$B$2:$B$401,F$1,'Suivi CA'!$A$2:$A$401,'Tableau de bord'!$L$3) -> 0 | G3: =SUMIFS('Suivi CA'!$E$2:$E$401,'Suivi CA'!$D$2:$D$401,$A3,'Suivi CA'!$B$2:$B$401,G$1,'Suivi CA'!$A$2:$A$401,'Tableau de bord'!$L$3) -> 0 | H3: =SUMIFS('Suivi CA'!$E$2:$E$401,'Suivi CA'!$D$2:$D$401,$A3,'Suivi CA'!$B$2:$B$401,H$1,'Suivi CA'!$A$2:$A$401,'Tableau de bord'!$L$3) -> 0 | I3: =SUMIFS('Suivi CA'!$E$2:$E$401,'Suivi CA'!$D$2:$D$401,$A3,'Suivi CA'!$B$2:$B$401,I$1,'Suivi CA'!$A$2:$A$401,'Tableau de bord'!$L$3) -> 0 | ... M3: =SUMIFS('Suivi CA'!$E$2:$E$401,'Suivi CA'!$D$2:$D$401,$A3,'Suivi CA'!$B$2:$B$401,M$1,'Suivi CA'!$A$2:$A$401,'Tableau de bord'!$L$3) -> 0 | N3: =SUM(B3:M3) -> 0 | O3: =SUMIFS('Suivi CA'!$G$2:$G$401,'Suivi CA'!$D$2:$D$401,$A3,'Suivi CA'!$A$2:$A$401,'Tableau de bord'!$L$3) -> 0
A4: =IF(Marques!$A4="","",Marques!$A4) | B4: =SUMIFS('Suivi CA'!$E$2:$E$401,'Suivi CA'!$D$2:$D$401,$A4,'Suivi CA'!$B$2:$B$401,B$1,'Suivi CA'!$A$2:$A$401,'Tableau de bord'!$L$3) -> 0 | C4: =SUMIFS('Suivi CA'!$E$2:$E$401,'Suivi CA'!$D$2:$D$401,$A4,'Suivi CA'!$B$2:$B$401,C$1,'Suivi CA'!$A$2:$A$401,'Tableau de bord'!$L$3) -> 0 | D4: =SUMIFS('Suivi CA'!$E$2:$E$401,'Suivi CA'!$D$2:$D$401,$A4,'Suivi CA'!$B$2:$B$401,D$1,'Suivi CA'!$A$2:$A$401,'Tableau de bord'!$L$3) -> 0 | E4: =SUMIFS('Suivi CA'!$E$2:$E$401,'Suivi CA'!$D$2:$D$401,$A4,'Suivi CA'!$B$2:$B$401,E$1,'Suivi CA'!$A$2:$A$401,'Tableau de bord'!$L$3) -> 0 | F4: =SUMIFS('Suivi CA'!$E$2:$E$401,'Suivi CA'!$D$2:$D$401,$A4,'Suivi CA'!$B$2:$B$401,F$1,'Suivi CA'!$A$2:$A$401,'Tableau de bord'!$L$3) -> 0 | G4: =SUMIFS('Suivi CA'!$E$2:$E$401,'Suivi CA'!$D$2:$D$401,$A4,'Suivi CA'!$B$2:$B$401,G$1,'Suivi CA'!$A$2:$A$401,'Tableau de bord'!$L$3) -> 0 | H4: =SUMIFS('Suivi CA'!$E$2:$E$401,'Suivi CA'!$D$2:$D$401,$A4,'Suivi CA'!$B$2:$B$401,H$1,'Suivi CA'!$A$2:$A$401,'Tableau de bord'!$L$3) -> 0 | I4: =SUMIFS('Suivi CA'!$E$2:$E$401,'Suivi CA'!$D$2:$D$401,$A4,'Suivi CA'!$B$2:$B$401,I$1,'Suivi CA'!$A$2:$A$401,'Tableau de bord'!$L$3) -> 0 | ... M4: =SUMIFS('Suivi CA'!$E$2:$E$401,'Suivi CA'!$D$2:$D$401,$A4,'Suivi CA'!$B$2:$B$401,M$1,'Suivi CA'!$A$2:$A$401,'Tableau de bord'!$L$3) -> 0 | N4: =SUM(B4:M4) -> 0 | O4: =SUMIFS('Suivi CA'!$G$2:$G$401,'Suivi CA'!$D$2:$D$401,$A4,'Suivi CA'!$A$2:$A$401,'Tableau de bord'!$L$3) -> 0
A5: =IF(Marques!$A5="","",Marques!$A5) | B5: =SUMIFS('Suivi CA'!$E$2:$E$401,'Suivi CA'!$D$2:$D$401,$A5,'Suivi CA'!$B$2:$B$401,B$1,'Suivi CA'!$A$2:$A$401,'Tableau de bord'!$L$3) -> 0 | C5: =SUMIFS('Suivi CA'!$E$2:$E$401,'Suivi CA'!$D$2:$D$401,$A5,'Suivi CA'!$B$2:$B$401,C$1,'Suivi CA'!$A$2:$A$401,'Tableau de bord'!$L$3) -> 0 | D5: =SUMIFS('Suivi CA'!$E$2:$E$401,'Suivi CA'!$D$2:$D$401,$A5,'Suivi CA'!$B$2:$B$401,D$1,'Suivi CA'!$A$2:$A$401,'Tableau de bord'!$L$3) -> 0 | E5: =SUMIFS('Suivi CA'!$E$2:$E$401,'Suivi CA'!$D$2:$D$401,$A5,'Suivi CA'!$B$2:$B$401,E$1,'Suivi CA'!$A$2:$A$401,'Tableau de bord'!$L$3) -> 0 | F5: =SUMIFS('Suivi CA'!$E$2:$E$401,'Suivi CA'!$D$2:$D$401,$A5,'Suivi CA'!$B$2:$B$401,F$1,'Suivi CA'!$A$2:$A$401,'Tableau de bord'!$L$3) -> 0 | G5: =SUMIFS('Suivi CA'!$E$2:$E$401,'Suivi CA'!$D$2:$D$401,$A5,'Suivi CA'!$B$2:$B$401,G$1,'Suivi CA'!$A$2:$A$401,'Tableau de bord'!$L$3) -> 0 | H5: =SUMIFS('Suivi CA'!$E$2:$E$401,'Suivi CA'!$D$2:$D$401,$A5,'Suivi CA'!$B$2:$B$401,H$1,'Suivi CA'!$A$2:$A$401,'Tableau de bord'!$L$3) -> 0 | I5: =SUMIFS('Suivi CA'!$E$2:$E$401,'Suivi CA'!$D$2:$D$401,$A5,'Suivi CA'!$B$2:$B$401,I$1,'Suivi CA'!$A$2:$A$401,'Tableau de bord'!$L$3) -> 0 | ... M5: =SUMIFS('Suivi CA'!$E$2:$E$401,'Suivi CA'!$D$2:$D$401,$A5,'Suivi CA'!$B$2:$B$401,M$1,'Suivi CA'!$A$2:$A$401,'Tableau de bord'!$L$3) -> 0 | N5: =SUM(B5:M5) -> 0 | O5: =SUMIFS('Suivi CA'!$G$2:$G$401,'Suivi CA'!$D$2:$D$401,$A5,'Suivi CA'!$A$2:$A$401,'Tableau de bord'!$L$3) -> 0
A6: =IF(Marques!$A6="","",Marques!$A6) | B6: =SUMIFS('Suivi CA'!$E$2:$E$401,'Suivi CA'!$D$2:$D$401,$A6,'Suivi CA'!$B$2:$B$401,B$1,'Suivi CA'!$A$2:$A$401,'Tableau de bord'!$L$3) -> 0 | C6: =SUMIFS('Suivi CA'!$E$2:$E$401,'Suivi CA'!$D$2:$D$401,$A6,'Suivi CA'!$B$2:$B$401,C$1,'Suivi CA'!$A$2:$A$401,'Tableau de bord'!$L$3) -> 0 | D6: =SUMIFS('Suivi CA'!$E$2:$E$401,'Suivi CA'!$D$2:$D$401,$A6,'Suivi CA'!$B$2:$B$401,D$1,'Suivi CA'!$A$2:$A$401,'Tableau de bord'!$L$3) -> 0 | E6: =SUMIFS('Suivi CA'!$E$2:$E$401,'Suivi CA'!$D$2:$D$401,$A6,'Suivi CA'!$B$2:$B$401,E$1,'Suivi CA'!$A$2:$A$401,'Tableau de bord'!$L$3) -> 0 | F6: =SUMIFS('Suivi CA'!$E$2:$E$401,'Suivi CA'!$D$2:$D$401,$A6,'Suivi CA'!$B$2:$B$401,F$1,'Suivi CA'!$A$2:$A$401,'Tableau de bord'!$L$3) -> 0 | G6: =SUMIFS('Suivi CA'!$E$2:$E$401,'Suivi CA'!$D$2:$D$401,$A6,'Suivi CA'!$B$2:$B$401,G$1,'Suivi CA'!$A$2:$A$401,'Tableau de bord'!$L$3) -> 0 | H6: =SUMIFS('Suivi CA'!$E$2:$E$401,'Suivi CA'!$D$2:$D$401,$A6,'Suivi CA'!$B$2:$B$401,H$1,'Suivi CA'!$A$2:$A$401,'Tableau de bord'!$L$3) -> 0 | I6: =SUMIFS('Suivi CA'!$E$2:$E$401,'Suivi CA'!$D$2:$D$401,$A6,'Suivi CA'!$B$2:$B$401,I$1,'Suivi CA'!$A$2:$A$401,'Tableau de bord'!$L$3) -> 0 | ... M6: =SUMIFS('Suivi CA'!$E$2:$E$401,'Suivi CA'!$D$2:$D$401,$A6,'Suivi CA'!$B$2:$B$401,M$1,'Suivi CA'!$A$2:$A$401,'Tableau de bord'!$L$3) -> 0 | N6: =SUM(B6:M6) -> 0 | O6: =SUMIFS('Suivi CA'!$G$2:$G$401,'Suivi CA'!$D$2:$D$401,$A6,'Suivi CA'!$A$2:$A$401,'Tableau de bord'!$L$3) -> 0
A7: =IF(Marques!$A7="","",Marques!$A7) | B7: =SUMIFS('Suivi CA'!$E$2:$E$401,'Suivi CA'!$D$2:$D$401,$A7,'Suivi CA'!$B$2:$B$401,B$1,'Suivi CA'!$A$2:$A$401,'Tableau de bord'!$L$3) -> 0 | C7: =SUMIFS('Suivi CA'!$E$2:$E$401,'Suivi CA'!$D$2:$D$401,$A7,'Suivi CA'!$B$2:$B$401,C$1,'Suivi CA'!$A$2:$A$401,'Tableau de bord'!$L$3) -> 0 | D7: =SUMIFS('Suivi CA'!$E$2:$E$401,'Suivi CA'!$D$2:$D$401,$A7,'Suivi CA'!$B$2:$B$401,D$1,'Suivi CA'!$A$2:$A$401,'Tableau de bord'!$L$3) -> 0 | E7: =SUMIFS('Suivi CA'!$E$2:$E$401,'Suivi CA'!$D$2:$D$401,$A7,'Suivi CA'!$B$2:$B$401,E$1,'Suivi CA'!$A$2:$A$401,'Tableau de bord'!$L$3) -> 0 | F7: =SUMIFS('Suivi CA'!$E$2:$E$401,'Suivi CA'!$D$2:$D$401,$A7,'Suivi CA'!$B$2:$B$401,F$1,'Suivi CA'!$A$2:$A$401,'Tableau de bord'!$L$3) -> 0 | G7: =SUMIFS('Suivi CA'!$E$2:$E$401,'Suivi CA'!$D$2:$D$401,$A7,'Suivi CA'!$B$2:$B$401,G$1,'Suivi CA'!$A$2:$A$401,'Tableau de bord'!$L$3) -> 0 | H7: =SUMIFS('Suivi CA'!$E$2:$E$401,'Suivi CA'!$D$2:$D$401,$A7,'Suivi CA'!$B$2:$B$401,H$1,'Suivi CA'!$A$2:$A$401,'Tableau de bord'!$L$3) -> 0 | I7: =SUMIFS('Suivi CA'!$E$2:$E$401,'Suivi CA'!$D$2:$D$401,$A7,'Suivi CA'!$B$2:$B$401,I$1,'Suivi CA'!$A$2:$A$401,'Tableau de bord'!$L$3) -> 0 | ... M7: =SUMIFS('Suivi CA'!$E$2:$E$401,'Suivi CA'!$D$2:$D$401,$A7,'Suivi CA'!$B$2:$B$401,M$1,'Suivi CA'!$A$2:$A$401,'Tableau de bord'!$L$3) -> 0 | N7: =SUM(B7:M7) -> 0 | O7: =SUMIFS('Suivi CA'!$G$2:$G$401,'Suivi CA'!$D$2:$D$401,$A7,'Suivi CA'!$A$2:$A$401,'Tableau de bord'!$L$3) -> 0
A8: =IF(Marques!$A8="","",Marques!$A8) | B8: =SUMIFS('Suivi CA'!$E$2:$E$401,'Suivi CA'!$D$2:$D$401,$A8,'Suivi CA'!$B$2:$B$401,B$1,'Suivi CA'!$A$2:$A$401,'Tableau de bord'!$L$3) -> 0 | C8: =SUMIFS('Suivi CA'!$E$2:$E$401,'Suivi CA'!$D$2:$D$401,$A8,'Suivi CA'!$B$2:$B$401,C$1,'Suivi CA'!$A$2:$A$401,'Tableau de bord'!$L$3) -> 0 | D8: =SUMIFS('Suivi CA'!$E$2:$E$401,'Suivi CA'!$D$2:$D$401,$A8,'Suivi CA'!$B$2:$B$401,D$1,'Suivi CA'!$A$2:$A$401,'Tableau de bord'!$L$3) -> 0 | E8: =SUMIFS('Suivi CA'!$E$2:$E$401,'Suivi CA'!$D$2:$D$401,$A8,'Suivi CA'!$B$2:$B$401,E$1,'Suivi CA'!$A$2:$A$401,'Tableau de bord'!$L$3) -> 0 | F8: =SUMIFS('Suivi CA'!$E$2:$E$401,'Suivi CA'!$D$2:$D$401,$A8,'Suivi CA'!$B$2:$B$401,F$1,'Suivi CA'!$A$2:$A$401,'Tableau de bord'!$L$3) -> 0 | G8: =SUMIFS('Suivi CA'!$E$2:$E$401,'Suivi CA'!$D$2:$D$401,$A8,'Suivi CA'!$B$2:$B$401,G$1,'Suivi CA'!$A$2:$A$401,'Tableau de bord'!$L$3) -> 0 | H8: =SUMIFS('Suivi CA'!$E$2:$E$401,'Suivi CA'!$D$2:$D$401,$A8,'Suivi CA'!$B$2:$B$401,H$1,'Suivi CA'!$A$2:$A$401,'Tableau de bord'!$L$3) -> 0 | I8: =SUMIFS('Suivi CA'!$E$2:$E$401,'Suivi CA'!$D$2:$D$401,$A8,'Suivi CA'!$B$2:$B$401,I$1,'Suivi CA'!$A$2:$A$401,'Tableau de bord'!$L$3) -> 0 | ... M8: =SUMIFS('Suivi CA'!$E$2:$E$401,'Suivi CA'!$D$2:$D$401,$A8,'Suivi CA'!$B$2:$B$401,M$1,'Suivi CA'!$A$2:$A$401,'Tableau de bord'!$L$3) -> 0 | N8: =SUM(B8:M8) -> 0 | O8: =SUMIFS('Suivi CA'!$G$2:$G$401,'Suivi CA'!$D$2:$D$401,$A8,'Suivi CA'!$A$2:$A$401,'Tableau de bord'!$L$3) -> 0
A9: =IF(Marques!$A9="","",Marques!$A9) | B9: =SUMIFS('Suivi CA'!$E$2:$E$401,'Suivi CA'!$D$2:$D$401,$A9,'Suivi CA'!$B$2:$B$401,B$1,'Suivi CA'!$A$2:$A$401,'Tableau de bord'!$L$3) -> 0 | C9: =SUMIFS('Suivi CA'!$E$2:$E$401,'Suivi CA'!$D$2:$D$401,$A9,'Suivi CA'!$B$2:$B$401,C$1,'Suivi CA'!$A$2:$A$401,'Tableau de bord'!$L$3) -> 0 | D9: =SUMIFS('Suivi CA'!$E$2:$E$401,'Suivi CA'!$D$2:$D$401,$A9,'Suivi CA'!$B$2:$B$401,D$1,'Suivi CA'!$A$2:$A$401,'Tableau de bord'!$L$3) -> 0 | E9: =SUMIFS('Suivi CA'!$E$2:$E$401,'Suivi CA'!$D$2:$D$401,$A9,'Suivi CA'!$B$2:$B$401,E$1,'Suivi CA'!$A$2:$A$401,'Tableau de bord'!$L$3) -> 0 | F9: =SUMIFS('Suivi CA'!$E$2:$E$401,'Suivi CA'!$D$2:$D$401,$A9,'Suivi CA'!$B$2:$B$401,F$1,'Suivi CA'!$A$2:$A$401,'Tableau de bord'!$L$3) -> 0 | G9: =SUMIFS('Suivi CA'!$E$2:$E$401,'Suivi CA'!$D$2:$D$401,$A9,'Suivi CA'!$B$2:$B$401,G$1,'Suivi CA'!$A$2:$A$401,'Tableau de bord'!$L$3) -> 0 | H9: =SUMIFS('Suivi CA'!$E$2:$E$401,'Suivi CA'!$D$2:$D$401,$A9,'Suivi CA'!$B$2:$B$401,H$1,'Suivi CA'!$A$2:$A$401,'Tableau de bord'!$L$3) -> 0 | I9: =SUMIFS('Suivi CA'!$E$2:$E$401,'Suivi CA'!$D$2:$D$401,$A9,'Suivi CA'!$B$2:$B$401,I$1,'Suivi CA'!$A$2:$A$401,'Tableau de bord'!$L$3) -> 0 | ... M9: =SUMIFS('Suivi CA'!$E$2:$E$401,'Suivi CA'!$D$2:$D$401,$A9,'Suivi CA'!$B$2:$B$401,M$1,'Suivi CA'!$A$2:$A$401,'Tableau de bord'!$L$3) -> 0 | N9: =SUM(B9:M9) -> 0 | O9: =SUMIFS('Suivi CA'!$G$2:$G$401,'Suivi CA'!$D$2:$D$401,$A9,'Suivi CA'!$A$2:$A$401,'Tableau de bord'!$L$3) -> 0
A10: =IF(Marques!$A10="","",Marques!$A10) | B10: =SUMIFS('Suivi CA'!$E$2:$E$401,'Suivi CA'!$D$2:$D$401,$A10,'Suivi CA'!$B$2:$B$401,B$1,'Suivi CA'!$A$2:$A$401,'Tableau de bord'!$L$3) -> 0 | C10: =SUMIFS('Suivi CA'!$E$2:$E$401,'Suivi CA'!$D$2:$D$401,$A10,'Suivi CA'!$B$2:$B$401,C$1,'Suivi CA'!$A$2:$A$401,'Tableau de bord'!$L$3) -> 0 | D10: =SUMIFS('Suivi CA'!$E$2:$E$401,'Suivi CA'!$D$2:$D$401,$A10,'Suivi CA'!$B$2:$B$401,D$1,'Suivi CA'!$A$2:$A$401,'Tableau de bord'!$L$3) -> 0 | E10: =SUMIFS('Suivi CA'!$E$2:$E$401,'Suivi CA'!$D$2:$D$401,$A10,'Suivi CA'!$B$2:$B$401,E$1,'Suivi CA'!$A$2:$A$401,'Tableau de bord'!$L$3) -> 0 | F10: =SUMIFS('Suivi CA'!$E$2:$E$401,'Suivi CA'!$D$2:$D$401,$A10,'Suivi CA'!$B$2:$B$401,F$1,'Suivi CA'!$A$2:$A$401,'Tableau de bord'!$L$3) -> 0 | G10: =SUMIFS('Suivi CA'!$E$2:$E$401,'Suivi CA'!$D$2:$D$401,$A10,'Suivi CA'!$B$2:$B$401,G$1,'Suivi CA'!$A$2:$A$401,'Tableau de bord'!$L$3) -> 0 | H10: =SUMIFS('Suivi CA'!$E$2:$E$401,'Suivi CA'!$D$2:$D$401,$A10,'Suivi CA'!$B$2:$B$401,H$1,'Suivi CA'!$A$2:$A$401,'Tableau de bord'!$L$3) -> 0 | I10: =SUMIFS('Suivi CA'!$E$2:$E$401,'Suivi CA'!$D$2:$D$401,$A10,'Suivi CA'!$B$2:$B$401,I$1,'Suivi CA'!$A$2:$A$401,'Tableau de bord'!$L$3) -> 0 | ... M10: =SUMIFS('Suivi CA'!$E$2:$E$401,'Suivi CA'!$D$2:$D$401,$A10,'Suivi CA'!$B$2:$B$401,M$1,'Suivi CA'!$A$2:$A$401,'Tableau de bord'!$L$3) -> 0 | N10: =SUM(B10:M10) -> 0 | O10: =SUMIFS('Suivi CA'!$G$2:$G$401,'Suivi CA'!$D$2:$D$401,$A10,'Suivi CA'!$A$2:$A$401,'Tableau de bord'!$L$3) -> 0
A11: =IF(Marques!$A11="","",Marques!$A11) | B11: =SUMIFS('Suivi CA'!$E$2:$E$401,'Suivi CA'!$D$2:$D$401,$A11,'Suivi CA'!$B$2:$B$401,B$1,'Suivi CA'!$A$2:$A$401,'Tableau de bord'!$L$3) -> 0 | C11: =SUMIFS('Suivi CA'!$E$2:$E$401,'Suivi CA'!$D$2:$D$401,$A11,'Suivi CA'!$B$2:$B$401,C$1,'Suivi CA'!$A$2:$A$401,'Tableau de bord'!$L$3) -> 0 | D11: =SUMIFS('Suivi CA'!$E$2:$E$401,'Suivi CA'!$D$2:$D$401,$A11,'Suivi CA'!$B$2:$B$401,D$1,'Suivi CA'!$A$2:$A$401,'Tableau de bord'!$L$3) -> 0 | E11: =SUMIFS('Suivi CA'!$E$2:$E$401,'Suivi CA'!$D$2:$D$401,$A11,'Suivi CA'!$B$2:$B$401,E$1,'Suivi CA'!$A$2:$A$401,'Tableau de bord'!$L$3) -> 0 | F11: =SUMIFS('Suivi CA'!$E$2:$E$401,'Suivi CA'!$D$2:$D$401,$A11,'Suivi CA'!$B$2:$B$401,F$1,'Suivi CA'!$A$2:$A$401,'Tableau de bord'!$L$3) -> 0 | G11: =SUMIFS('Suivi CA'!$E$2:$E$401,'Suivi CA'!$D$2:$D$401,$A11,'Suivi CA'!$B$2:$B$401,G$1,'Suivi CA'!$A$2:$A$401,'Tableau de bord'!$L$3) -> 0 | H11: =SUMIFS('Suivi CA'!$E$2:$E$401,'Suivi CA'!$D$2:$D$401,$A11,'Suivi CA'!$B$2:$B$401,H$1,'Suivi CA'!$A$2:$A$401,'Tableau de bord'!$L$3) -> 0 | I11: =SUMIFS('Suivi CA'!$E$2:$E$401,'Suivi CA'!$D$2:$D$401,$A11,'Suivi CA'!$B$2:$B$401,I$1,'Suivi CA'!$A$2:$A$401,'Tableau de bord'!$L$3) -> 0 | ... M11: =SUMIFS('Suivi CA'!$E$2:$E$401,'Suivi CA'!$D$2:$D$401,$A11,'Suivi CA'!$B$2:$B$401,M$1,'Suivi CA'!$A$2:$A$401,'Tableau de bord'!$L$3) -> 0 | N11: =SUM(B11:M11) -> 0 | O11: =SUMIFS('Suivi CA'!$G$2:$G$401,'Suivi CA'!$D$2:$D$401,$A11,'Suivi CA'!$A$2:$A$401,'Tableau de bord'!$L$3) -> 0
A12: =IF(Marques!$A12="","",Marques!$A12) | B12: =SUMIFS('Suivi CA'!$E$2:$E$401,'Suivi CA'!$D$2:$D$401,$A12,'Suivi CA'!$B$2:$B$401,B$1,'Suivi CA'!$A$2:$A$401,'Tableau de bord'!$L$3) -> 0 | C12: =SUMIFS('Suivi CA'!$E$2:$E$401,'Suivi CA'!$D$2:$D$401,$A12,'Suivi CA'!$B$2:$B$401,C$1,'Suivi CA'!$A$2:$A$401,'Tableau de bord'!$L$3) -> 0 | D12: =SUMIFS('Suivi CA'!$E$2:$E$401,'Suivi CA'!$D$2:$D$401,$A12,'Suivi CA'!$B$2:$B$401,D$1,'Suivi CA'!$A$2:$A$401,'Tableau de bord'!$L$3) -> 0 | E12: =SUMIFS('Suivi CA'!$E$2:$E$401,'Suivi CA'!$D$2:$D$401,$A12,'Suivi CA'!$B$2:$B$401,E$1,'Suivi CA'!$A$2:$A$401,'Tableau de bord'!$L$3) -> 0 | F12: =SUMIFS('Suivi CA'!$E$2:$E$401,'Suivi CA'!$D$2:$D$401,$A12,'Suivi CA'!$B$2:$B$401,F$1,'Suivi CA'!$A$2:$A$401,'Tableau de bord'!$L$3) -> 0 | G12: =SUMIFS('Suivi CA'!$E$2:$E$401,'Suivi CA'!$D$2:$D$401,$A12,'Suivi CA'!$B$2:$B$401,G$1,'Suivi CA'!$A$2:$A$401,'Tableau de bord'!$L$3) -> 0 | H12: =SUMIFS('Suivi CA'!$E$2:$E$401,'Suivi CA'!$D$2:$D$401,$A12,'Suivi CA'!$B$2:$B$401,H$1,'Suivi CA'!$A$2:$A$401,'Tableau de bord'!$L$3) -> 0 | I12: =SUMIFS('Suivi CA'!$E$2:$E$401,'Suivi CA'!$D$2:$D$401,$A12,'Suivi CA'!$B$2:$B$401,I$1,'Suivi CA'!$A$2:$A$401,'Tableau de bord'!$L$3) -> 0 | ... M12: =SUMIFS('Suivi CA'!$E$2:$E$401,'Suivi CA'!$D$2:$D$401,$A12,'Suivi CA'!$B$2:$B$401,M$1,'Suivi CA'!$A$2:$A$401,'Tableau de bord'!$L$3) -> 0 | N12: =SUM(B12:M12) -> 0 | O12: =SUMIFS('Suivi CA'!$G$2:$G$401,'Suivi CA'!$D$2:$D$401,$A12,'Suivi CA'!$A$2:$A$401,'Tableau de bord'!$L$3) -> 0
A13: =IF(Marques!$A13="","",Marques!$A13) | B13: =SUMIFS('Suivi CA'!$E$2:$E$401,'Suivi CA'!$D$2:$D$401,$A13,'Suivi CA'!$B$2:$B$401,B$1,'Suivi CA'!$A$2:$A$401,'Tableau de bord'!$L$3) -> 0 | C13: =SUMIFS('Suivi CA'!$E$2:$E$401,'Suivi CA'!$D$2:$D$401,$A13,'Suivi CA'!$B$2:$B$401,C$1,'Suivi CA'!$A$2:$A$401,'Tableau de bord'!$L$3) -> 0 | D13: =SUMIFS('Suivi CA'!$E$2:$E$401,'Suivi CA'!$D$2:$D$401,$A13,'Suivi CA'!$B$2:$B$401,D$1,'Suivi CA'!$A$2:$A$401,'Tableau de bord'!$L$3) -> 0 | E13: =SUMIFS('Suivi CA'!$E$2:$E$401,'Suivi CA'!$D$2:$D$401,$A13,'Suivi CA'!$B$2:$B$401,E$1,'Suivi CA'!$A$2:$A$401,'Tableau de bord'!$L$3) -> 0 | F13: =SUMIFS('Suivi CA'!$E$2:$E$401,'Suivi CA'!$D$2:$D$401,$A13,'Suivi CA'!$B$2:$B$401,F$1,'Suivi CA'!$A$2:$A$401,'Tableau de bord'!$L$3) -> 0 | G13: =SUMIFS('Suivi CA'!$E$2:$E$401,'Suivi CA'!$D$2:$D$401,$A13,'Suivi CA'!$B$2:$B$401,G$1,'Suivi CA'!$A$2:$A$401,'Tableau de bord'!$L$3) -> 0 | H13: =SUMIFS('Suivi CA'!$E$2:$E$401,'Suivi CA'!$D$2:$D$401,$A13,'Suivi CA'!$B$2:$B$401,H$1,'Suivi CA'!$A$2:$A$401,'Tableau de bord'!$L$3) -> 0 | I13: =SUMIFS('Suivi CA'!$E$2:$E$401,'Suivi CA'!$D$2:$D$401,$A13,'Suivi CA'!$B$2:$B$401,I$1,'Suivi CA'!$A$2:$A$401,'Tableau de bord'!$L$3) -> 0 | ... M13: =SUMIFS('Suivi CA'!$E$2:$E$401,'Suivi CA'!$D$2:$D$401,$A13,'Suivi CA'!$B$2:$B$401,M$1,'Suivi CA'!$A$2:$A$401,'Tableau de bord'!$L$3) -> 0 | N13: =SUM(B13:M13) -> 0 | O13: =SUMIFS('Suivi CA'!$G$2:$G$401,'Suivi CA'!$D$2:$D$401,$A13,'Suivi CA'!$A$2:$A$401,'Tableau de bord'!$L$3) -> 0
... A41: =IF(Marques!$A41="","",Marques!$A41) | B41: =SUMIFS('Suivi CA'!$E$2:$E$401,'Suivi CA'!$D$2:$D$401,$A41,'Suivi CA'!$B$2:$B$401,B$1,'Suivi CA'!$A$2:$A$401,'Tableau de bord'!$L$3) -> 0 | C41: =SUMIFS('Suivi CA'!$E$2:$E$401,'Suivi CA'!$D$2:$D$401,$A41,'Suivi CA'!$B$2:$B$401,C$1,'Suivi CA'!$A$2:$A$401,'Tableau de bord'!$L$3) -> 0 | D41: =SUMIFS('Suivi CA'!$E$2:$E$401,'Suivi CA'!$D$2:$D$401,$A41,'Suivi CA'!$B$2:$B$401,D$1,'Suivi CA'!$A$2:$A$401,'Tableau de bord'!$L$3) -> 0 | E41: =SUMIFS('Suivi CA'!$E$2:$E$401,'Suivi CA'!$D$2:$D$401,$A41,'Suivi CA'!$B$2:$B$401,E$1,'Suivi CA'!$A$2:$A$401,'Tableau de bord'!$L$3) -> 0 | F41: =SUMIFS('Suivi CA'!$E$2:$E$401,'Suivi CA'!$D$2:$D$401,$A41,'Suivi CA'!$B$2:$B$401,F$1,'Suivi CA'!$A$2:$A$401,'Tableau de bord'!$L$3) -> 0 | G41: =SUMIFS('Suivi CA'!$E$2:$E$401,'Suivi CA'!$D$2:$D$401,$A41,'Suivi CA'!$B$2:$B$401,G$1,'Suivi CA'!$A$2:$A$401,'Tableau de bord'!$L$3) -> 0 | H41: =SUMIFS('Suivi CA'!$E$2:$E$401,'Suivi CA'!$D$2:$D$401,$A41,'Suivi CA'!$B$2:$B$401,H$1,'Suivi CA'!$A$2:$A$401,'Tableau de bord'!$L$3) -> 0 | I41: =SUMIFS('Suivi CA'!$E$2:$E$401,'Suivi CA'!$D$2:$D$401,$A41,'Suivi CA'!$B$2:$B$401,I$1,'Suivi CA'!$A$2:$A$401,'Tableau de bord'!$L$3) -> 0 | ... M41: =SUMIFS('Suivi CA'!$E$2:$E$401,'Suivi CA'!$D$2:$D$401,$A41,'Suivi CA'!$B$2:$B$401,M$1,'Suivi CA'!$A$2:$A$401,'Tableau de bord'!$L$3) -> 0 | N41: =SUM(B41:M41) -> 0 | O41: =SUMIFS('Suivi CA'!$G$2:$G$401,'Suivi CA'!$D$2:$D$401,$A41,'Suivi CA'!$A$2:$A$401,'Tableau de bord'!$L$3) -> 0
A42: TOTAL | B42: =SUM(B2:B41) -> 0 | C42: =SUM(C2:C41) -> 0 | D42: =SUM(D2:D41) -> 0 | E42: =SUM(E2:E41) -> 0 | F42: =SUM(F2:F41) -> 0 | G42: =SUM(G2:G41) -> 0 | H42: =SUM(H2:H41) -> 0 | I42: =SUM(I2:I41) -> 0 | ... O42: =SUM(O2:O41) -> 111

Sheet Synthèse Client-Mois
A1: Client | B1: Janvier | C1: Février | D1: Mars | E1: Avril | F1: Mai | G1: Juin | H1: Juillet | I1: Août | J1: Septembre | K1: Octobre | L1: Novembre | M1: Décembre | N1: Total CA | O1: Total commission
A2: =IF(Clients!$B2="","",Clients!$B2) -> Bricomarché Bazas | B2: =SUMIFS('Suivi CA'!$E$2:$E$401,'Suivi CA'!$C$2:$C$401,$A2,'Suivi CA'!$B$2:$B$401,B$1,'Suivi CA'!$A$2:$A$401,'Tableau de bord'!$L$3) -> 0 | C2: =SUMIFS('Suivi CA'!$E$2:$E$401,'Suivi CA'!$C$2:$C$401,$A2,'Suivi CA'!$B$2:$B$401,C$1,'Suivi CA'!$A$2:$A$401,'Tableau de bord'!$L$3) -> 0 | D2: =SUMIFS('Suivi CA'!$E$2:$E$401,'Suivi CA'!$C$2:$C$401,$A2,'Suivi CA'!$B$2:$B$401,D$1,'Suivi CA'!$A$2:$A$401,'Tableau de bord'!$L$3) -> 0 | E2: =SUMIFS('Suivi CA'!$E$2:$E$401,'Suivi CA'!$C$2:$C$401,$A2,'Suivi CA'!$B$2:$B$401,E$1,'Suivi CA'!$A$2:$A$401,'Tableau de bord'!$L$3) -> 0 | F2: =SUMIFS('Suivi CA'!$E$2:$E$401,'Suivi CA'!$C$2:$C$401,$A2,'Suivi CA'!$B$2:$B$401,F$1,'Suivi CA'!$A$2:$A$401,'Tableau de bord'!$L$3) -> 0 | G2: =SUMIFS('Suivi CA'!$E$2:$E$401,'Suivi CA'!$C$2:$C$401,$A2,'Suivi CA'!$B$2:$B$401,G$1,'Suivi CA'!$A$2:$A$401,'Tableau de bord'!$L$3) -> 0 | H2: =SUMIFS('Suivi CA'!$E$2:$E$401,'Suivi CA'!$C$2:$C$401,$A2,'Suivi CA'!$B$2:$B$401,H$1,'Suivi CA'!$A$2:$A$401,'Tableau de bord'!$L$3) -> 0 | I2: =SUMIFS('Suivi CA'!$E$2:$E$401,'Suivi CA'!$C$2:$C$401,$A2,'Suivi CA'!$B$2:$B$401,I$1,'Suivi CA'!$A$2:$A$401,'Tableau de bord'!$L$3) -> 0 | ... M2: =SUMIFS('Suivi CA'!$E$2:$E$401,'Suivi CA'!$C$2:$C$401,$A2,'Suivi CA'!$B$2:$B$401,M$1,'Suivi CA'!$A$2:$A$401,'Tableau de bord'!$L$3) -> 0 | N2: =SUM(B2:M2) -> 1850 | O2: =SUMIFS('Suivi CA'!$G$2:$G$401,'Suivi CA'!$C$2:$C$401,$A2,'Suivi CA'!$A$2:$A$401,'Tableau de bord'!$L$3) -> 111
A3: =IF(Clients!$B3="","",Clients!$B3) | B3: =SUMIFS('Suivi CA'!$E$2:$E$401,'Suivi CA'!$C$2:$C$401,$A3,'Suivi CA'!$B$2:$B$401,B$1,'Suivi CA'!$A$2:$A$401,'Tableau de bord'!$L$3) -> 0 | C3: =SUMIFS('Suivi CA'!$E$2:$E$401,'Suivi CA'!$C$2:$C$401,$A3,'Suivi CA'!$B$2:$B$401,C$1,'Suivi CA'!$A$2:$A$401,'Tableau de bord'!$L$3) -> 0 | D3: =SUMIFS('Suivi CA'!$E$2:$E$401,'Suivi CA'!$C$2:$C$401,$A3,'Suivi CA'!$B$2:$B$401,D$1,'Suivi CA'!$A$2:$A$401,'Tableau de bord'!$L$3) -> 0 | E3: =SUMIFS('Suivi CA'!$E$2:$E$401,'Suivi CA'!$C$2:$C$401,$A3,'Suivi CA'!$B$2:$B$401,E$1,'Suivi CA'!$A$2:$A$401,'Tableau de bord'!$L$3) -> 0 | F3: =SUMIFS('Suivi CA'!$E$2:$E$401,'Suivi CA'!$C$2:$C$401,$A3,'Suivi CA'!$B$2:$B$401,F$1,'Suivi CA'!$A$2:$A$401,'Tableau de bord'!$L$3) -> 0 | G3: =SUMIFS('Suivi CA'!$E$2:$E$401,'Suivi CA'!$C$2:$C$401,$A3,'Suivi CA'!$B$2:$B$401,G$1,'Suivi CA'!$A$2:$A$401,'Tableau de bord'!$L$3) -> 0 | H3: =SUMIFS('Suivi CA'!$E$2:$E$401,'Suivi CA'!$C$2:$C$401,$A3,'Suivi CA'!$B$2:$B$401,H$1,'Suivi CA'!$A$2:$A$401,'Tableau de bord'!$L$3) -> 0 | I3: =SUMIFS('Suivi CA'!$E$2:$E$401,'Suivi CA'!$C$2:$C$401,$A3,'Suivi CA'!$B$2:$B$401,I$1,'Suivi CA'!$A$2:$A$401,'Tableau de bord'!$L$3) -> 0 | ... M3: =SUMIFS('Suivi CA'!$E$2:$E$401,'Suivi CA'!$C$2:$C$401,$A3,'Suivi CA'!$B$2:$B$401,M$1,'Suivi CA'!$A$2:$A$401,'Tableau de bord'!$L$3) -> 0 | N3: =SUM(B3:M3) -> 0 | O3: =SUMIFS('Suivi CA'!$G$2:$G$401,'Suivi CA'!$C$2:$C$401,$A3,'Suivi CA'!$A$2:$A$401,'Tableau de bord'!$L$3) -> 0
A4: =IF(Clients!$B4="","",Clients!$B4) | B4: =SUMIFS('Suivi CA'!$E$2:$E$401,'Suivi CA'!$C$2:$C$401,$A4,'Suivi CA'!$B$2:$B$401,B$1,'Suivi CA'!$A$2:$A$401,'Tableau de bord'!$L$3) -> 0 | C4: =SUMIFS('Suivi CA'!$E$2:$E$401,'Suivi CA'!$C$2:$C$401,$A4,'Suivi CA'!$B$2:$B$401,C$1,'Suivi CA'!$A$2:$A$401,'Tableau de bord'!$L$3) -> 0 | D4: =SUMIFS('Suivi CA'!$E$2:$E$401,'Suivi CA'!$C$2:$C$401,$A4,'Suivi CA'!$B$2:$B$401,D$1,'Suivi CA'!$A$2:$A$401,'Tableau de bord'!$L$3) -> 0 | E4: =SUMIFS('Suivi CA'!$E$2:$E$401,'Suivi CA'!$C$2:$C$401,$A4,'Suivi CA'!$B$2:$B$401,E$1,'Suivi CA'!$A$2:$A$401,'Tableau de bord'!$L$3) -> 0 | F4: =SUMIFS('Suivi CA'!$E$2:$E$401,'Suivi CA'!$C$2:$C$401,$A4,'Suivi CA'!$B$2:$B$401,F$1,'Suivi CA'!$A$2:$A$401,'Tableau de bord'!$L$3) -> 0 | G4: =SUMIFS('Suivi CA'!$E$2:$E$401,'Suivi CA'!$C$2:$C$401,$A4,'Suivi CA'!$B$2:$B$401,G$1,'Suivi CA'!$A$2:$A$401,'Tableau de bord'!$L$3) -> 0 | H4: =SUMIFS('Suivi CA'!$E$2:$E$401,'Suivi CA'!$C$2:$C$401,$A4,'Suivi CA'!$B$2:$B$401,H$1,'Suivi CA'!$A$2:$A$401,'Tableau de bord'!$L$3) -> 0 | I4: =SUMIFS('Suivi CA'!$E$2:$E$401,'Suivi CA'!$C$2:$C$401,$A4,'Suivi CA'!$B$2:$B$401,I$1,'Suivi CA'!$A$2:$A$401,'Tableau de bord'!$L$3) -> 0 | ... M4: =SUMIFS('Suivi CA'!$E$2:$E$401,'Suivi CA'!$C$2:$C$401,$A4,'Suivi CA'!$B$2:$B$401,M$1,'Suivi CA'!$A$2:$A$401,'Tableau de bord'!$L$3) -> 0 | N4: =SUM(B4:M4) -> 0 | O4: =SUMIFS('Suivi CA'!$G$2:$G$401,'Suivi CA'!$C$2:$C$401,$A4,'Suivi CA'!$A$2:$A$401,'Tableau de bord'!$L$3) -> 0
A5: =IF(Clients!$B5="","",Clients!$B5) | B5: =SUMIFS('Suivi CA'!$E$2:$E$401,'Suivi CA'!$C$2:$C$401,$A5,'Suivi CA'!$B$2:$B$401,B$1,'Suivi CA'!$A$2:$A$401,'Tableau de bord'!$L$3) -> 0 | C5: =SUMIFS('Suivi CA'!$E$2:$E$401,'Suivi CA'!$C$2:$C$401,$A5,'Suivi CA'!$B$2:$B$401,C$1,'Suivi CA'!$A$2:$A$401,'Tableau de bord'!$L$3) -> 0 | D5: =SUMIFS('Suivi CA'!$E$2:$E$401,'Suivi CA'!$C$2:$C$401,$A5,'Suivi CA'!$B$2:$B$401,D$1,'Suivi CA'!$A$2:$A$401,'Tableau de bord'!$L$3) -> 0 | E5: =SUMIFS('Suivi CA'!$E$2:$E$401,'Suivi CA'!$C$2:$C$401,$A5,'Suivi CA'!$B$2:$B$401,E$1,'Suivi CA'!$A$2:$A$401,'Tableau de bord'!$L$3) -> 0 | F5: =SUMIFS('Suivi CA'!$E$2:$E$401,'Suivi CA'!$C$2:$C$401,$A5,'Suivi CA'!$B$2:$B$401,F$1,'Suivi CA'!$A$2:$A$401,'Tableau de bord'!$L$3) -> 0 | G5: =SUMIFS('Suivi CA'!$E$2:$E$401,'Suivi CA'!$C$2:$C$401,$A5,'Suivi CA'!$B$2:$B$401,G$1,'Suivi CA'!$A$2:$A$401,'Tableau de bord'!$L$3) -> 0 | H5: =SUMIFS('Suivi CA'!$E$2:$E$401,'Suivi CA'!$C$2:$C$401,$A5,'Suivi CA'!$B$2:$B$401,H$1,'Suivi CA'!$A$2:$A$401,'Tableau de bord'!$L$3) -> 0 | I5: =SUMIFS('Suivi CA'!$E$2:$E$401,'Suivi CA'!$C$2:$C$401,$A5,'Suivi CA'!$B$2:$B$401,I$1,'Suivi CA'!$A$2:$A$401,'Tableau de bord'!$L$3) -> 0 | ... M5: =SUMIFS('Suivi CA'!$E$2:$E$401,'Suivi CA'!$C$2:$C$401,$A5,'Suivi CA'!$B$2:$B$401,M$1,'Suivi CA'!$A$2:$A$401,'Tableau de bord'!$L$3) -> 0 | N5: =SUM(B5:M5) -> 0 | O5: =SUMIFS('Suivi CA'!$G$2:$G$401,'Suivi CA'!$C$2:$C$401,$A5,'Suivi CA'!$A$2:$A$401,'Tableau de bord'!$L$3) -> 0
A6: =IF(Clients!$B6="","",Clients!$B6) | B6: =SUMIFS('Suivi CA'!$E$2:$E$401,'Suivi CA'!$C$2:$C$401,$A6,'Suivi CA'!$B$2:$B$401,B$1,'Suivi CA'!$A$2:$A$401,'Tableau de bord'!$L$3) -> 0 | C6: =SUMIFS('Suivi CA'!$E$2:$E$401,'Suivi CA'!$C$2:$C$401,$A6,'Suivi CA'!$B$2:$B$401,C$1,'Suivi CA'!$A$2:$A$401,'Tableau de bord'!$L$3) -> 0 | D6: =SUMIFS('Suivi CA'!$E$2:$E$401,'Suivi CA'!$C$2:$C$401,$A6,'Suivi CA'!$B$2:$B$401,D$1,'Suivi CA'!$A$2:$A$401,'Tableau de bord'!$L$3) -> 0 | E6: =SUMIFS('Suivi CA'!$E$2:$E$401,'Suivi CA'!$C$2:$C$401,$A6,'Suivi CA'!$B$2:$B$401,E$1,'Suivi CA'!$A$2:$A$401,'Tableau de bord'!$L$3) -> 0 | F6: =SUMIFS('Suivi CA'!$E$2:$E$401,'Suivi CA'!$C$2:$C$401,$A6,'Suivi CA'!$B$2:$B$401,F$1,'Suivi CA'!$A$2:$A$401,'Tableau de bord'!$L$3) -> 0 | G6: =SUMIFS('Suivi CA'!$E$2:$E$401,'Suivi CA'!$C$2:$C$401,$A6,'Suivi CA'!$B$2:$B$401,G$1,'Suivi CA'!$A$2:$A$401,'Tableau de bord'!$L$3) -> 0 | H6: =SUMIFS('Suivi CA'!$E$2:$E$401,'Suivi CA'!$C$2:$C$401,$A6,'Suivi CA'!$B$2:$B$401,H$1,'Suivi CA'!$A$2:$A$401,'Tableau de bord'!$L$3) -> 0 | I6: =SUMIFS('Suivi CA'!$E$2:$E$401,'Suivi CA'!$C$2:$C$401,$A6,'Suivi CA'!$B$2:$B$401,I$1,'Suivi CA'!$A$2:$A$401,'Tableau de bord'!$L$3) -> 0 | ... M6: =SUMIFS('Suivi CA'!$E$2:$E$401,'Suivi CA'!$C$2:$C$401,$A6,'Suivi CA'!$B$2:$B$401,M$1,'Suivi CA'!$A$2:$A$401,'Tableau de bord'!$L$3) -> 0 | N6: =SUM(B6:M6) -> 0 | O6: =SUMIFS('Suivi CA'!$G$2:$G$401,'Suivi CA'!$C$2:$C$401,$A6,'Suivi CA'!$A$2:$A$401,'Tableau de bord'!$L$3) -> 0
A7: =IF(Clients!$B7="","",Clients!$B7) | B7: =SUMIFS('Suivi CA'!$E$2:$E$401,'Suivi CA'!$C$2:$C$401,$A7,'Suivi CA'!$B$2:$B$401,B$1,'Suivi CA'!$A$2:$A$401,'Tableau de bord'!$L$3) -> 0 | C7: =SUMIFS('Suivi CA'!$E$2:$E$401,'Suivi CA'!$C$2:$C$401,$A7,'Suivi CA'!$B$2:$B$401,C$1,'Suivi CA'!$A$2:$A$401,'Tableau de bord'!$L$3) -> 0 | D7: =SUMIFS('Suivi CA'!$E$2:$E$401,'Suivi CA'!$C$2:$C$401,$A7,'Suivi CA'!$B$2:$B$401,D$1,'Suivi CA'!$A$2:$A$401,'Tableau de bord'!$L$3) -> 0 | E7: =SUMIFS('Suivi CA'!$E$2:$E$401,'Suivi CA'!$C$2:$C$401,$A7,'Suivi CA'!$B$2:$B$401,E$1,'Suivi CA'!$A$2:$A$401,'Tableau de bord'!$L$3) -> 0 | F7: =SUMIFS('Suivi CA'!$E$2:$E$401,'Suivi CA'!$C$2:$C$401,$A7,'Suivi CA'!$B$2:$B$401,F$1,'Suivi CA'!$A$2:$A$401,'Tableau de bord'!$L$3) -> 0 | G7: =SUMIFS('Suivi CA'!$E$2:$E$401,'Suivi CA'!$C$2:$C$401,$A7,'Suivi CA'!$B$2:$B$401,G$1,'Suivi CA'!$A$2:$A$401,'Tableau de bord'!$L$3) -> 0 | H7: =SUMIFS('Suivi CA'!$E$2:$E$401,'Suivi CA'!$C$2:$C$401,$A7,'Suivi CA'!$B$2:$B$401,H$1,'Suivi CA'!$A$2:$A$401,'Tableau de bord'!$L$3) -> 0 | I7: =SUMIFS('Suivi CA'!$E$2:$E$401,'Suivi CA'!$C$2:$C$401,$A7,'Suivi CA'!$B$2:$B$401,I$1,'Suivi CA'!$A$2:$A$401,'Tableau de bord'!$L$3) -> 0 | ... M7: =SUMIFS('Suivi CA'!$E$2:$E$401,'Suivi CA'!$C$2:$C$401,$A7,'Suivi CA'!$B$2:$B$401,M$1,'Suivi CA'!$A$2:$A$401,'Tableau de bord'!$L$3) -> 0 | N7: =SUM(B7:M7) -> 0 | O7: =SUMIFS('Suivi CA'!$G$2:$G$401,'Suivi CA'!$C$2:$C$401,$A7,'Suivi CA'!$A$2:$A$401,'Tableau de bord'!$L$3) -> 0
A8: =IF(Clients!$B8="","",Clients!$B8) | B8: =SUMIFS('Suivi CA'!$E$2:$E$401,'Suivi CA'!$C$2:$C$401,$A8,'Suivi CA'!$B$2:$B$401,B$1,'Suivi CA'!$A$2:$A$401,'Tableau de bord'!$L$3) -> 0 | C8: =SUMIFS('Suivi CA'!$E$2:$E$401,'Suivi CA'!$C$2:$C$401,$A8,'Suivi CA'!$B$2:$B$401,C$1,'Suivi CA'!$A$2:$A$401,'Tableau de bord'!$L$3) -> 0 | D8: =SUMIFS('Suivi CA'!$E$2:$E$401,'Suivi CA'!$C$2:$C$401,$A8,'Suivi CA'!$B$2:$B$401,D$1,'Suivi CA'!$A$2:$A$401,'Tableau de bord'!$L$3) -> 0 | E8: =SUMIFS('Suivi CA'!$E$2:$E$401,'Suivi CA'!$C$2:$C$401,$A8,'Suivi CA'!$B$2:$B$401,E$1,'Suivi CA'!$A$2:$A$401,'Tableau de bord'!$L$3) -> 0 | F8: =SUMIFS('Suivi CA'!$E$2:$E$401,'Suivi CA'!$C$2:$C$401,$A8,'Suivi CA'!$B$2:$B$401,F$1,'Suivi CA'!$A$2:$A$401,'Tableau de bord'!$L$3) -> 0 | G8: =SUMIFS('Suivi CA'!$E$2:$E$401,'Suivi CA'!$C$2:$C$401,$A8,'Suivi CA'!$B$2:$B$401,G$1,'Suivi CA'!$A$2:$A$401,'Tableau de bord'!$L$3) -> 0 | H8: =SUMIFS('Suivi CA'!$E$2:$E$401,'Suivi CA'!$C$2:$C$401,$A8,'Suivi CA'!$B$2:$B$401,H$1,'Suivi CA'!$A$2:$A$401,'Tableau de bord'!$L$3) -> 0 | I8: =SUMIFS('Suivi CA'!$E$2:$E$401,'Suivi CA'!$C$2:$C$401,$A8,'Suivi CA'!$B$2:$B$401,I$1,'Suivi CA'!$A$2:$A$401,'Tableau de bord'!$L$3) -> 0 | ... M8: =SUMIFS('Suivi CA'!$E$2:$E$401,'Suivi CA'!$C$2:$C$401,$A8,'Suivi CA'!$B$2:$B$401,M$1,'Suivi CA'!$A$2:$A$401,'Tableau de bord'!$L$3) -> 0 | N8: =SUM(B8:M8) -> 0 | O8: =SUMIFS('Suivi CA'!$G$2:$G$401,'Suivi CA'!$C$2:$C$401,$A8,'Suivi CA'!$A$2:$A$401,'Tableau de bord'!$L$3) -> 0
A9: =IF(Clients!$B9="","",Clients!$B9) | B9: =SUMIFS('Suivi CA'!$E$2:$E$401,'Suivi CA'!$C$2:$C$401,$A9,'Suivi CA'!$B$2:$B$401,B$1,'Suivi CA'!$A$2:$A$401,'Tableau de bord'!$L$3) -> 0 | C9: =SUMIFS('Suivi CA'!$E$2:$E$401,'Suivi CA'!$C$2:$C$401,$A9,'Suivi CA'!$B$2:$B$401,C$1,'Suivi CA'!$A$2:$A$401,'Tableau de bord'!$L$3) -> 0 | D9: =SUMIFS('Suivi CA'!$E$2:$E$401,'Suivi CA'!$C$2:$C$401,$A9,'Suivi CA'!$B$2:$B$401,D$1,'Suivi CA'!$A$2:$A$401,'Tableau de bord'!$L$3) -> 0 | E9: =SUMIFS('Suivi CA'!$E$2:$E$401,'Suivi CA'!$C$2:$C$401,$A9,'Suivi CA'!$B$2:$B$401,E$1,'Suivi CA'!$A$2:$A$401,'Tableau de bord'!$L$3) -> 0 | F9: =SUMIFS('Suivi CA'!$E$2:$E$401,'Suivi CA'!$C$2:$C$401,$A9,'Suivi CA'!$B$2:$B$401,F$1,'Suivi CA'!$A$2:$A$401,'Tableau de bord'!$L$3) -> 0 | G9: =SUMIFS('Suivi CA'!$E$2:$E$401,'Suivi CA'!$C$2:$C$401,$A9,'Suivi CA'!$B$2:$B$401,G$1,'Suivi CA'!$A$2:$A$401,'Tableau de bord'!$L$3) -> 0 | H9: =SUMIFS('Suivi CA'!$E$2:$E$401,'Suivi CA'!$C$2:$C$401,$A9,'Suivi CA'!$B$2:$B$401,H$1,'Suivi CA'!$A$2:$A$401,'Tableau de bord'!$L$3) -> 0 | I9: =SUMIFS('Suivi CA'!$E$2:$E$401,'Suivi CA'!$C$2:$C$401,$A9,'Suivi CA'!$B$2:$B$401,I$1,'Suivi CA'!$A$2:$A$401,'Tableau de bord'!$L$3) -> 0 | ... M9: =SUMIFS('Suivi CA'!$E$2:$E$401,'Suivi CA'!$C$2:$C$401,$A9,'Suivi CA'!$B$2:$B$401,M$1,'Suivi CA'!$A$2:$A$401,'Tableau de bord'!$L$3) -> 0 | N9: =SUM(B9:M9) -> 0 | O9: =SUMIFS('Suivi CA'!$G$2:$G$401,'Suivi CA'!$C$2:$C$401,$A9,'Suivi CA'!$A$2:$A$401,'Tableau de bord'!$L$3) -> 0
A10: =IF(Clients!$B10="","",Clients!$B10) | B10: =SUMIFS('Suivi CA'!$E$2:$E$401,'Suivi CA'!$C$2:$C$401,$A10,'Suivi CA'!$B$2:$B$401,B$1,'Suivi CA'!$A$2:$A$401,'Tableau de bord'!$L$3) -> 0 | C10: =SUMIFS('Suivi CA'!$E$2:$E$401,'Suivi CA'!$C$2:$C$401,$A10,'Suivi CA'!$B$2:$B$401,C$1,'Suivi CA'!$A$2:$A$401,'Tableau de bord'!$L$3) -> 0 | D10: =SUMIFS('Suivi CA'!$E$2:$E$401,'Suivi CA'!$C$2:$C$401,$A10,'Suivi CA'!$B$2:$B$401,D$1,'Suivi CA'!$A$2:$A$401,'Tableau de bord'!$L$3) -> 0 | E10: =SUMIFS('Suivi CA'!$E$2:$E$401,'Suivi CA'!$C$2:$C$401,$A10,'Suivi CA'!$B$2:$B$401,E$1,'Suivi CA'!$A$2:$A$401,'Tableau de bord'!$L$3) -> 0 | F10: =SUMIFS('Suivi CA'!$E$2:$E$401,'Suivi CA'!$C$2:$C$401,$A10,'Suivi CA'!$B$2:$B$401,F$1,'Suivi CA'!$A$2:$A$401,'Tableau de bord'!$L$3) -> 0 | G10: =SUMIFS('Suivi CA'!$E$2:$E$401,'Suivi CA'!$C$2:$C$401,$A10,'Suivi CA'!$B$2:$B$401,G$1,'Suivi CA'!$A$2:$A$401,'Tableau de bord'!$L$3) -> 0 | H10: =SUMIFS('Suivi CA'!$E$2:$E$401,'Suivi CA'!$C$2:$C$401,$A10,'Suivi CA'!$B$2:$B$401,H$1,'Suivi CA'!$A$2:$A$401,'Tableau de bord'!$L$3) -> 0 | I10: =SUMIFS('Suivi CA'!$E$2:$E$401,'Suivi CA'!$C$2:$C$401,$A10,'Suivi CA'!$B$2:$B$401,I$1,'Suivi CA'!$A$2:$A$401,'Tableau de bord'!$L$3) -> 0 | ... M10: =SUMIFS('Suivi CA'!$E$2:$E$401,'Suivi CA'!$C$2:$C$401,$A10,'Suivi CA'!$B$2:$B$401,M$1,'Suivi CA'!$A$2:$A$401,'Tableau de bord'!$L$3) -> 0 | N10: =SUM(B10:M10) -> 0 | O10: =SUMIFS('Suivi CA'!$G$2:$G$401,'Suivi CA'!$C$2:$C$401,$A10,'Suivi CA'!$A$2:$A$401,'Tableau de bord'!$L$3) -> 0
A11: =IF(Clients!$B11="","",Clients!$B11) | B11: =SUMIFS('Suivi CA'!$E$2:$E$401,'Suivi CA'!$C$2:$C$401,$A11,'Suivi CA'!$B$2:$B$401,B$1,'Suivi CA'!$A$2:$A$401,'Tableau de bord'!$L$3) -> 0 | C11: =SUMIFS('Suivi CA'!$E$2:$E$401,'Suivi CA'!$C$2:$C$401,$A11,'Suivi CA'!$B$2:$B$401,C$1,'Suivi CA'!$A$2:$A$401,'Tableau de bord'!$L$3) -> 0 | D11: =SUMIFS('Suivi CA'!$E$2:$E$401,'Suivi CA'!$C$2:$C$401,$A11,'Suivi CA'!$B$2:$B$401,D$1,'Suivi CA'!$A$2:$A$401,'Tableau de bord'!$L$3) -> 0 | E11: =SUMIFS('Suivi CA'!$E$2:$E$401,'Suivi CA'!$C$2:$C$401,$A11,'Suivi CA'!$B$2:$B$401,E$1,'Suivi CA'!$A$2:$A$401,'Tableau de bord'!$L$3) -> 0 | F11: =SUMIFS('Suivi CA'!$E$2:$E$401,'Suivi CA'!$C$2:$C$401,$A11,'Suivi CA'!$B$2:$B$401,F$1,'Suivi CA'!$A$2:$A$401,'Tableau de bord'!$L$3) -> 0 | G11: =SUMIFS('Suivi CA'!$E$2:$E$401,'Suivi CA'!$C$2:$C$401,$A11,'Suivi CA'!$B$2:$B$401,G$1,'Suivi CA'!$A$2:$A$401,'Tableau de bord'!$L$3) -> 0 | H11: =SUMIFS('Suivi CA'!$E$2:$E$401,'Suivi CA'!$C$2:$C$401,$A11,'Suivi CA'!$B$2:$B$401,H$1,'Suivi CA'!$A$2:$A$401,'Tableau de bord'!$L$3) -> 0 | I11: =SUMIFS('Suivi CA'!$E$2:$E$401,'Suivi CA'!$C$2:$C$401,$A11,'Suivi CA'!$B$2:$B$401,I$1,'Suivi CA'!$A$2:$A$401,'Tableau de bord'!$L$3) -> 0 | ... M11: =SUMIFS('Suivi CA'!$E$2:$E$401,'Suivi CA'!$C$2:$C$401,$A11,'Suivi CA'!$B$2:$B$401,M$1,'Suivi CA'!$A$2:$A$401,'Tableau de bord'!$L$3) -> 0 | N11: =SUM(B11:M11) -> 0 | O11: =SUMIFS('Suivi CA'!$G$2:$G$401,'Suivi CA'!$C$2:$C$401,$A11,'Suivi CA'!$A$2:$A$401,'Tableau de bord'!$L$3) -> 0
A12: =IF(Clients!$B12="","",Clients!$B12) | B12: =SUMIFS('Suivi CA'!$E$2:$E$401,'Suivi CA'!$C$2:$C$401,$A12,'Suivi CA'!$B$2:$B$401,B$1,'Suivi CA'!$A$2:$A$401,'Tableau de bord'!$L$3) -> 0 | C12: =SUMIFS('Suivi CA'!$E$2:$E$401,'Suivi CA'!$C$2:$C$401,$A12,'Suivi CA'!$B$2:$B$401,C$1,'Suivi CA'!$A$2:$A$401,'Tableau de bord'!$L$3) -> 0 | D12: =SUMIFS('Suivi CA'!$E$2:$E$401,'Suivi CA'!$C$2:$C$401,$A12,'Suivi CA'!$B$2:$B$401,D$1,'Suivi CA'!$A$2:$A$401,'Tableau de bord'!$L$3) -> 0 | E12: =SUMIFS('Suivi CA'!$E$2:$E$401,'Suivi CA'!$C$2:$C$401,$A12,'Suivi CA'!$B$2:$B$401,E$1,'Suivi CA'!$A$2:$A$401,'Tableau de bord'!$L$3) -> 0 | F12: =SUMIFS('Suivi CA'!$E$2:$E$401,'Suivi CA'!$C$2:$C$401,$A12,'Suivi CA'!$B$2:$B$401,F$1,'Suivi CA'!$A$2:$A$401,'Tableau de bord'!$L$3) -> 0 | G12: =SUMIFS('Suivi CA'!$E$2:$E$401,'Suivi CA'!$C$2:$C$401,$A12,'Suivi CA'!$B$2:$B$401,G$1,'Suivi CA'!$A$2:$A$401,'Tableau de bord'!$L$3) -> 0 | H12: =SUMIFS('Suivi CA'!$E$2:$E$401,'Suivi CA'!$C$2:$C$401,$A12,'Suivi CA'!$B$2:$B$401,H$1,'Suivi CA'!$A$2:$A$401,'Tableau de bord'!$L$3) -> 0 | I12: =SUMIFS('Suivi CA'!$E$2:$E$401,'Suivi CA'!$C$2:$C$401,$A12,'Suivi CA'!$B$2:$B$401,I$1,'Suivi CA'!$A$2:$A$401,'Tableau de bord'!$L$3) -> 0 | ... M12: =SUMIFS('Suivi CA'!$E$2:$E$401,'Suivi CA'!$C$2:$C$401,$A12,'Suivi CA'!$B$2:$B$401,M$1,'Suivi CA'!$A$2:$A$401,'Tableau de bord'!$L$3) -> 0 | N12: =SUM(B12:M12) -> 0 | O12: =SUMIFS('Suivi CA'!$G$2:$G$401,'Suivi CA'!$C$2:$C$401,$A12,'Suivi CA'!$A$2:$A$401,'Tableau de bord'!$L$3) -> 0
A13: =IF(Clients!$B13="","",Clients!$B13) | B13: =SUMIFS('Suivi CA'!$E$2:$E$401,'Suivi CA'!$C$2:$C$401,$A13,'Suivi CA'!$B$2:$B$401,B$1,'Suivi CA'!$A$2:$A$401,'Tableau de bord'!$L$3) -> 0 | C13: =SUMIFS('Suivi CA'!$E$2:$E$401,'Suivi CA'!$C$2:$C$401,$A13,'Suivi CA'!$B$2:$B$401,C$1,'Suivi CA'!$A$2:$A$401,'Tableau de bord'!$L$3) -> 0 | D13: =SUMIFS('Suivi CA'!$E$2:$E$401,'Suivi CA'!$C$2:$C$401,$A13,'Suivi CA'!$B$2:$B$401,D$1,'Suivi CA'!$A$2:$A$401,'Tableau de bord'!$L$3) -> 0 | E13: =SUMIFS('Suivi CA'!$E$2:$E$401,'Suivi CA'!$C$2:$C$401,$A13,'Suivi CA'!$B$2:$B$401,E$1,'Suivi CA'!$A$2:$A$401,'Tableau de bord'!$L$3) -> 0 | F13: =SUMIFS('Suivi CA'!$E$2:$E$401,'Suivi CA'!$C$2:$C$401,$A13,'Suivi CA'!$B$2:$B$401,F$1,'Suivi CA'!$A$2:$A$401,'Tableau de bord'!$L$3) -> 0 | G13: =SUMIFS('Suivi CA'!$E$2:$E$401,'Suivi CA'!$C$2:$C$401,$A13,'Suivi CA'!$B$2:$B$401,G$1,'Suivi CA'!$A$2:$A$401,'Tableau de bord'!$L$3) -> 0 | H13: =SUMIFS('Suivi CA'!$E$2:$E$401,'Suivi CA'!$C$2:$C$401,$A13,'Suivi CA'!$B$2:$B$401,H$1,'Suivi CA'!$A$2:$A$401,'Tableau de bord'!$L$3) -> 0 | I13: =SUMIFS('Suivi CA'!$E$2:$E$401,'Suivi CA'!$C$2:$C$401,$A13,'Suivi CA'!$B$2:$B$401,I$1,'Suivi CA'!$A$2:$A$401,'Tableau de bord'!$L$3) -> 0 | ... M13: =SUMIFS('Suivi CA'!$E$2:$E$401,'Suivi CA'!$C$2:$C$401,$A13,'Suivi CA'!$B$2:$B$401,M$1,'Suivi CA'!$A$2:$A$401,'Tableau de bord'!$L$3) -> 0 | N13: =SUM(B13:M13) -> 0 | O13: =SUMIFS('Suivi CA'!$G$2:$G$401,'Suivi CA'!$C$2:$C$401,$A13,'Suivi CA'!$A$2:$A$401,'Tableau de bord'!$L$3) -> 0
... A121: =IF(Clients!$B121="","",Clients!$B121) | B121: =SUMIFS('Suivi CA'!$E$2:$E$401,'Suivi CA'!$C$2:$C$401,$A121,'Suivi CA'!$B$2:$B$401,B$1,'Suivi CA'!$A$2:$A$401,'Tableau de bord'!$L$3) -> 0 | C121: =SUMIFS('Suivi CA'!$E$2:$E$401,'Suivi CA'!$C$2:$C$401,$A121,'Suivi CA'!$B$2:$B$401,C$1,'Suivi CA'!$A$2:$A$401,'Tableau de bord'!$L$3) -> 0 | D121: =SUMIFS('Suivi CA'!$E$2:$E$401,'Suivi CA'!$C$2:$C$401,$A121,'Suivi CA'!$B$2:$B$401,D$1,'Suivi CA'!$A$2:$A$401,'Tableau de bord'!$L$3) -> 0 | E121: =SUMIFS('Suivi CA'!$E$2:$E$401,'Suivi CA'!$C$2:$C$401,$A121,'Suivi CA'!$B$2:$B$401,E$1,'Suivi CA'!$A$2:$A$401,'Tableau de bord'!$L$3) -> 0 | F121: =SUMIFS('Suivi CA'!$E$2:$E$401,'Suivi CA'!$C$2:$C$401,$A121,'Suivi CA'!$B$2:$B$401,F$1,'Suivi CA'!$A$2:$A$401,'Tableau de bord'!$L$3) -> 0 | G121: =SUMIFS('Suivi CA'!$E$2:$E$401,'Suivi CA'!$C$2:$C$401,$A121,'Suivi CA'!$B$2:$B$401,G$1,'Suivi CA'!$A$2:$A$401,'Tableau de bord'!$L$3) -> 0 | H121: =SUMIFS('Suivi CA'!$E$2:$E$401,'Suivi CA'!$C$2:$C$401,$A121,'Suivi CA'!$B$2:$B$401,H$1,'Suivi CA'!$A$2:$A$401,'Tableau de bord'!$L$3) -> 0 | I121: =SUMIFS('Suivi CA'!$E$2:$E$401,'Suivi CA'!$C$2:$C$401,$A121,'Suivi CA'!$B$2:$B$401,I$1,'Suivi CA'!$A$2:$A$401,'Tableau de bord'!$L$3) -> 0 | ... M121: =SUMIFS('Suivi CA'!$E$2:$E$401,'Suivi CA'!$C$2:$C$401,$A121,'Suivi CA'!$B$2:$B$401,M$1,'Suivi CA'!$A$2:$A$401,'Tableau de bord'!$L$3) -> 0 | N121: =SUM(B121:M121) -> 0 | O121: =SUMIFS('Suivi CA'!$G$2:$G$401,'Suivi CA'!$C$2:$C$401,$A121,'Suivi CA'!$A$2:$A$401,'Tableau de bord'!$L$3) -> 0
A122: TOTAL | B122: =SUM(B2:B121) -> 0 | C122: =SUM(C2:C121) -> 0 | D122: =SUM(D2:D121) -> 0 | E122: =SUM(E2:E121) -> 0 | F122: =SUM(F2:F121) -> 0 | G122: =SUM(G2:G121) -> 0 | H122: =SUM(H2:H121) -> 0 | I122: =SUM(I2:I121) -> 0 | ... O122: =SUM(O2:O121) -> 111

Sheet Détail CA
A1: Client | B1: Marque | C1: Janvier | D1: Février | E1: Mars | F1: Avril | G1: Mai | H1: Juin | I1: Juillet | J1: Août | K1: Septembre | L1: Octobre | M1: Novembre | N1: Décembre | O1: Total
A2: Bricomarché Bazas | B2: Spit | C2: =IF($A2="","",SUMIFS('Suivi CA'!$E$2:$E$401,'Suivi CA'!$C$2:$C$401,$A2,'Suivi CA'!$D$2:$D$401,$B2,'Suivi CA'!$B$2:$B$401,C$1,'Suivi CA'!$A$2:$A$401,'Tableau de bord'!$L$3)) -> 0 | D2: =IF($A2="","",SUMIFS('Suivi CA'!$E$2:$E$401,'Suivi CA'!$C$2:$C$401,$A2,'Suivi CA'!$D$2:$D$401,$B2,'Suivi CA'!$B$2:$B$401,D$1,'Suivi CA'!$A$2:$A$401,'Tableau de bord'!$L$3)) -> 0 | E2: =IF($A2="","",SUMIFS('Suivi CA'!$E$2:$E$401,'Suivi CA'!$C$2:$C$401,$A2,'Suivi CA'!$D$2:$D$401,$B2,'Suivi CA'!$B$2:$B$401,E$1,'Suivi CA'!$A$2:$A$401,'Tableau de bord'!$L$3)) -> 0 | F2: =IF($A2="","",SUMIFS('Suivi CA'!$E$2:$E$401,'Suivi CA'!$C$2:$C$401,$A2,'Suivi CA'!$D$2:$D$401,$B2,'Suivi CA'!$B$2:$B$401,F$1,'Suivi CA'!$A$2:$A$401,'Tableau de bord'!$L$3)) -> 0 | G2: =IF($A2="","",SUMIFS('Suivi CA'!$E$2:$E$401,'Suivi CA'!$C$2:$C$401,$A2,'Suivi CA'!$D$2:$D$401,$B2,'Suivi CA'!$B$2:$B$401,G$1,'Suivi CA'!$A$2:$A$401,'Tableau de bord'!$L$3)) -> 0 | H2: =IF($A2="","",SUMIFS('Suivi CA'!$E$2:$E$401,'Suivi CA'!$C$2:$C$401,$A2,'Suivi CA'!$D$2:$D$401,$B2,'Suivi CA'!$B$2:$B$401,H$1,'Suivi CA'!$A$2:$A$401,'Tableau de bord'!$L$3)) -> 0 | I2: =IF($A2="","",SUMIFS('Suivi CA'!$E$2:$E$401,'Suivi CA'!$C$2:$C$401,$A2,'Suivi CA'!$D$2:$D$401,$B2,'Suivi CA'!$B$2:$B$401,I$1,'Suivi CA'!$A$2:$A$401,'Tableau de bord'!$L$3)) -> 0 | J2: =IF($A2="","",SUMIFS('Suivi CA'!$E$2:$E$401,'Suivi CA'!$C$2:$C$401,$A2,'Suivi CA'!$D$2:$D$401,$B2,'Suivi CA'!$B$2:$B$401,J$1,'Suivi CA'!$A$2:$A$401,'Tableau de bord'!$L$3)) -> 0 | ... N2: =IF($A2="","",SUMIFS('Suivi CA'!$E$2:$E$401,'Suivi CA'!$C$2:$C$401,$A2,'Suivi CA'!$D$2:$D$401,$B2,'Suivi CA'!$B$2:$B$401,N$1,'Suivi CA'!$A$2:$A$401,'Tableau de bord'!$L$3)) -> 0 | O2: =IF($A2="","",SUM(C2:N2)) -> 1850
C3: =IF($A3="","",SUMIFS('Suivi CA'!$E$2:$E$401,'Suivi CA'!$C$2:$C$401,$A3,'Suivi CA'!$D$2:$D$401,$B3,'Suivi CA'!$B$2:$B$401,C$1,'Suivi CA'!$A$2:$A$401,'Tableau de bord'!$L$3)) | D3: =IF($A3="","",SUMIFS('Suivi CA'!$E$2:$E$401,'Suivi CA'!$C$2:$C$401,$A3,'Suivi CA'!$D$2:$D$401,$B3,'Suivi CA'!$B$2:$B$401,D$1,'Suivi CA'!$A$2:$A$401,'Tableau de bord'!$L$3)) | E3: =IF($A3="","",SUMIFS('Suivi CA'!$E$2:$E$401,'Suivi CA'!$C$2:$C$401,$A3,'Suivi CA'!$D$2:$D$401,$B3,'Suivi CA'!$B$2:$B$401,E$1,'Suivi CA'!$A$2:$A$401,'Tableau de bord'!$L$3)) | F3: =IF($A3="","",SUMIFS('Suivi CA'!$E$2:$E$401,'Suivi CA'!$C$2:$C$401,$A3,'Suivi CA'!$D$2:$D$401,$B3,'Suivi CA'!$B$2:$B$401,F$1,'Suivi CA'!$A$2:$A$401,'Tableau de bord'!$L$3)) | G3: =IF($A3="","",SUMIFS('Suivi CA'!$E$2:$E$401,'Suivi CA'!$C$2:$C$401,$A3,'Suivi CA'!$D$2:$D$401,$B3,'Suivi CA'!$B$2:$B$401,G$1,'Suivi CA'!$A$2:$A$401,'Tableau de bord'!$L$3)) | H3: =IF($A3="","",SUMIFS('Suivi CA'!$E$2:$E$401,'Suivi CA'!$C$2:$C$401,$A3,'Suivi CA'!$D$2:$D$401,$B3,'Suivi CA'!$B$2:$B$401,H$1,'Suivi CA'!$A$2:$A$401,'Tableau de bord'!$L$3)) | I3: =IF($A3="","",SUMIFS('Suivi CA'!$E$2:$E$401,'Suivi CA'!$C$2:$C$401,$A3,'Suivi CA'!$D$2:$D$401,$B3,'Suivi CA'!$B$2:$B$401,I$1,'Suivi CA'!$A$2:$A$401,'Tableau de bord'!$L$3)) | J3: =IF($A3="","",SUMIFS('Suivi CA'!$E$2:$E$401,'Suivi CA'!$C$2:$C$401,$A3,'Suivi CA'!$D$2:$D$401,$B3,'Suivi CA'!$B$2:$B$401,J$1,'Suivi CA'!$A$2:$A$401,'Tableau de bord'!$L$3)) | ... N3: =IF($A3="","",SUMIFS('Suivi CA'!$E$2:$E$401,'Suivi CA'!$C$2:$C$401,$A3,'Suivi CA'!$D$2:$D$401,$B3,'Suivi CA'!$B$2:$B$401,N$1,'Suivi CA'!$A$2:$A$401,'Tableau de bord'!$L$3)) | O3: =IF($A3="","",SUM(C3:N3))
C4: =IF($A4="","",SUMIFS('Suivi CA'!$E$2:$E$401,'Suivi CA'!$C$2:$C$401,$A4,'Suivi CA'!$D$2:$D$401,$B4,'Suivi CA'!$B$2:$B$401,C$1,'Suivi CA'!$A$2:$A$401,'Tableau de bord'!$L$3)) | D4: =IF($A4="","",SUMIFS('Suivi CA'!$E$2:$E$401,'Suivi CA'!$C$2:$C$401,$A4,'Suivi CA'!$D$2:$D$401,$B4,'Suivi CA'!$B$2:$B$401,D$1,'Suivi CA'!$A$2:$A$401,'Tableau de bord'!$L$3)) | E4: =IF($A4="","",SUMIFS('Suivi CA'!$E$2:$E$401,'Suivi CA'!$C$2:$C$401,$A4,'Suivi CA'!$D$2:$D$401,$B4,'Suivi CA'!$B$2:$B$401,E$1,'Suivi CA'!$A$2:$A$401,'Tableau de bord'!$L$3)) | F4: =IF($A4="","",SUMIFS('Suivi CA'!$E$2:$E$401,'Suivi CA'!$C$2:$C$401,$A4,'Suivi CA'!$D$2:$D$401,$B4,'Suivi CA'!$B$2:$B$401,F$1,'Suivi CA'!$A$2:$A$401,'Tableau de bord'!$L$3)) | G4: =IF($A4="","",SUMIFS('Suivi CA'!$E$2:$E$401,'Suivi CA'!$C$2:$C$401,$A4,'Suivi CA'!$D$2:$D$401,$B4,'Suivi CA'!$B$2:$B$401,G$1,'Suivi CA'!$A$2:$A$401,'Tableau de bord'!$L$3)) | H4: =IF($A4="","",SUMIFS('Suivi CA'!$E$2:$E$401,'Suivi CA'!$C$2:$C$401,$A4,'Suivi CA'!$D$2:$D$401,$B4,'Suivi CA'!$B$2:$B$401,H$1,'Suivi CA'!$A$2:$A$401,'Tableau de bord'!$L$3)) | I4: =IF($A4="","",SUMIFS('Suivi CA'!$E$2:$E$401,'Suivi CA'!$C$2:$C$401,$A4,'Suivi CA'!$D$2:$D$401,$B4,'Suivi CA'!$B$2:$B$401,I$1,'Suivi CA'!$A$2:$A$401,'Tableau de bord'!$L$3)) | J4: =IF($A4="","",SUMIFS('Suivi CA'!$E$2:$E$401,'Suivi CA'!$C$2:$C$401,$A4,'Suivi CA'!$D$2:$D$401,$B4,'Suivi CA'!$B$2:$B$401,J$1,'Suivi CA'!$A$2:$A$401,'Tableau de bord'!$L$3)) | ... N4: =IF($A4="","",SUMIFS('Suivi CA'!$E$2:$E$401,'Suivi CA'!$C$2:$C$401,$A4,'Suivi CA'!$D$2:$D$401,$B4,'Suivi CA'!$B$2:$B$401,N$1,'Suivi CA'!$A$2:$A$401,'Tableau de bord'!$L$3)) | O4: =IF($A4="","",SUM(C4:N4))
C5: =IF($A5="","",SUMIFS('Suivi CA'!$E$2:$E$401,'Suivi CA'!$C$2:$C$401,$A5,'Suivi CA'!$D$2:$D$401,$B5,'Suivi CA'!$B$2:$B$401,C$1,'Suivi CA'!$A$2:$A$401,'Tableau de bord'!$L$3)) | D5: =IF($A5="","",SUMIFS('Suivi CA'!$E$2:$E$401,'Suivi CA'!$C$2:$C$401,$A5,'Suivi CA'!$D$2:$D$401,$B5,'Suivi CA'!$B$2:$B$401,D$1,'Suivi CA'!$A$2:$A$401,'Tableau de bord'!$L$3)) | E5: =IF($A5="","",SUMIFS('Suivi CA'!$E$2:$E$401,'Suivi CA'!$C$2:$C$401,$A5,'Suivi CA'!$D$2:$D$401,$B5,'Suivi CA'!$B$2:$B$401,E$1,'Suivi CA'!$A$2:$A$401,'Tableau de bord'!$L$3)) | F5: =IF($A5="","",SUMIFS('Suivi CA'!$E$2:$E$401,'Suivi CA'!$C$2:$C$401,$A5,'Suivi CA'!$D$2:$D$401,$B5,'Suivi CA'!$B$2:$B$401,F$1,'Suivi CA'!$A$2:$A$401,'Tableau de bord'!$L$3)) | G5: =IF($A5="","",SUMIFS('Suivi CA'!$E$2:$E$401,'Suivi CA'!$C$2:$C$401,$A5,'Suivi CA'!$D$2:$D$401,$B5,'Suivi CA'!$B$2:$B$401,G$1,'Suivi CA'!$A$2:$A$401,'Tableau de bord'!$L$3)) | H5: =IF($A5="","",SUMIFS('Suivi CA'!$E$2:$E$401,'Suivi CA'!$C$2:$C$401,$A5,'Suivi CA'!$D$2:$D$401,$B5,'Suivi CA'!$B$2:$B$401,H$1,'Suivi CA'!$A$2:$A$401,'Tableau de bord'!$L$3)) | I5: =IF($A5="","",SUMIFS('Suivi CA'!$E$2:$E$401,'Suivi CA'!$C$2:$C$401,$A5,'Suivi CA'!$D$2:$D$401,$B5,'Suivi CA'!$B$2:$B$401,I$1,'Suivi CA'!$A$2:$A$401,'Tableau de bord'!$L$3)) | J5: =IF($A5="","",SUMIFS('Suivi CA'!$E$2:$E$401,'Suivi CA'!$C$2:$C$401,$A5,'Suivi CA'!$D$2:$D$401,$B5,'Suivi CA'!$B$2:$B$401,J$1,'Suivi CA'!$A$2:$A$401,'Tableau de bord'!$L$3)) | ... N5: =IF($A5="","",SUMIFS('Suivi CA'!$E$2:$E$401,'Suivi CA'!$C$2:$C$401,$A5,'Suivi CA'!$D$2:$D$401,$B5,'Suivi CA'!$B$2:$B$401,N$1,'Suivi CA'!$A$2:$A$401,'Tableau de bord'!$L$3)) | O5: =IF($A5="","",SUM(C5:N5))
C6: =IF($A6="","",SUMIFS('Suivi CA'!$E$2:$E$401,'Suivi CA'!$C$2:$C$401,$A6,'Suivi CA'!$D$2:$D$401,$B6,'Suivi CA'!$B$2:$B$401,C$1,'Suivi CA'!$A$2:$A$401,'Tableau de bord'!$L$3)) | D6: =IF($A6="","",SUMIFS('Suivi CA'!$E$2:$E$401,'Suivi CA'!$C$2:$C$401,$A6,'Suivi CA'!$D$2:$D$401,$B6,'Suivi CA'!$B$2:$B$401,D$1,'Suivi CA'!$A$2:$A$401,'Tableau de bord'!$L$3)) | E6: =IF($A6="","",SUMIFS('Suivi CA'!$E$2:$E$401,'Suivi CA'!$C$2:$C$401,$A6,'Suivi CA'!$D$2:$D$401,$B6,'Suivi CA'!$B$2:$B$401,E$1,'Suivi CA'!$A$2:$A$401,'Tableau de bord'!$L$3)) | F6: =IF($A6="","",SUMIFS('Suivi CA'!$E$2:$E$401,'Suivi CA'!$C$2:$C$401,$A6,'Suivi CA'!$D$2:$D$401,$B6,'Suivi CA'!$B$2:$B$401,F$1,'Suivi CA'!$A$2:$A$401,'Tableau de bord'!$L$3)) | G6: =IF($A6="","",SUMIFS('Suivi CA'!$E$2:$E$401,'Suivi CA'!$C$2:$C$401,$A6,'Suivi CA'!$D$2:$D$401,$B6,'Suivi CA'!$B$2:$B$401,G$1,'Suivi CA'!$A$2:$A$401,'Tableau de bord'!$L$3)) | H6: =IF($A6="","",SUMIFS('Suivi CA'!$E$2:$E$401,'Suivi CA'!$C$2:$C$401,$A6,'Suivi CA'!$D$2:$D$401,$B6,'Suivi CA'!$B$2:$B$401,H$1,'Suivi CA'!$A$2:$A$401,'Tableau de bord'!$L$3)) | I6: =IF($A6="","",SUMIFS('Suivi CA'!$E$2:$E$401,'Suivi CA'!$C$2:$C$401,$A6,'Suivi CA'!$D$2:$D$401,$B6,'Suivi CA'!$B$2:$B$401,I$1,'Suivi CA'!$A$2:$A$401,'Tableau de bord'!$L$3)) | J6: =IF($A6="","",SUMIFS('Suivi CA'!$E$2:$E$401,'Suivi CA'!$C$2:$C$401,$A6,'Suivi CA'!$D$2:$D$401,$B6,'Suivi CA'!$B$2:$B$401,J$1,'Suivi CA'!$A$2:$A$401,'Tableau de bord'!$L$3)) | ... N6: =IF($A6="","",SUMIFS('Suivi CA'!$E$2:$E$401,'Suivi CA'!$C$2:$C$401,$A6,'Suivi CA'!$D$2:$D$401,$B6,'Suivi CA'!$B$2:$B$401,N$1,'Suivi CA'!$A$2:$A$401,'Tableau de bord'!$L$3)) | O6: =IF($A6="","",SUM(C6:N6))
C7: =IF($A7="","",SUMIFS('Suivi CA'!$E$2:$E$401,'Suivi CA'!$C$2:$C$401,$A7,'Suivi CA'!$D$2:$D$401,$B7,'Suivi CA'!$B$2:$B$401,C$1,'Suivi CA'!$A$2:$A$401,'Tableau de bord'!$L$3)) | D7: =IF($A7="","",SUMIFS('Suivi CA'!$E$2:$E$401,'Suivi CA'!$C$2:$C$401,$A7,'Suivi CA'!$D$2:$D$401,$B7,'Suivi CA'!$B$2:$B$401,D$1,'Suivi CA'!$A$2:$A$401,'Tableau de bord'!$L$3)) | E7: =IF($A7="","",SUMIFS('Suivi CA'!$E$2:$E$401,'Suivi CA'!$C$2:$C$401,$A7,'Suivi CA'!$D$2:$D$401,$B7,'Suivi CA'!$B$2:$B$401,E$1,'Suivi CA'!$A$2:$A$401,'Tableau de bord'!$L$3)) | F7: =IF($A7="","",SUMIFS('Suivi CA'!$E$2:$E$401,'Suivi CA'!$C$2:$C$401,$A7,'Suivi CA'!$D$2:$D$401,$B7,'Suivi CA'!$B$2:$B$401,F$1,'Suivi CA'!$A$2:$A$401,'Tableau de bord'!$L$3)) | G7: =IF($A7="","",SUMIFS('Suivi CA'!$E$2:$E$401,'Suivi CA'!$C$2:$C$401,$A7,'Suivi CA'!$D$2:$D$401,$B7,'Suivi CA'!$B$2:$B$401,G$1,'Suivi CA'!$A$2:$A$401,'Tableau de bord'!$L$3)) | H7: =IF($A7="","",SUMIFS('Suivi CA'!$E$2:$E$401,'Suivi CA'!$C$2:$C$401,$A7,'Suivi CA'!$D$2:$D$401,$B7,'Suivi CA'!$B$2:$B$401,H$1,'Suivi CA'!$A$2:$A$401,'Tableau de bord'!$L$3)) | I7: =IF($A7="","",SUMIFS('Suivi CA'!$E$2:$E$401,'Suivi CA'!$C$2:$C$401,$A7,'Suivi CA'!$D$2:$D$401,$B7,'Suivi CA'!$B$2:$B$401,I$1,'Suivi CA'!$A$2:$A$401,'Tableau de bord'!$L$3)) | J7: =IF($A7="","",SUMIFS('Suivi CA'!$E$2:$E$401,'Suivi CA'!$C$2:$C$401,$A7,'Suivi CA'!$D$2:$D$401,$B7,'Suivi CA'!$B$2:$B$401,J$1,'Suivi CA'!$A$2:$A$401,'Tableau de bord'!$L$3)) | ... N7: =IF($A7="","",SUMIFS('Suivi CA'!$E$2:$E$401,'Suivi CA'!$C$2:$C$401,$A7,'Suivi CA'!$D$2:$D$401,$B7,'Suivi CA'!$B$2:$B$401,N$1,'Suivi CA'!$A$2:$A$401,'Tableau de bord'!$L$3)) | O7: =IF($A7="","",SUM(C7:N7))
